Workbook

Sheet TPData
A1: =Data2!A1 -> 501 Queen Eastbound November 27-28-29 2019 Average Speed
A2: =Data2!A2 -> 0
A3: =Data2!A3 -> 0
A4: =Data2!A4 -> 1
A5: =Data2!A5 -> 2
A6: =Data2!A6 -> 3
A7: =Data2!A7 -> 4
A8: =Data2!A8 -> 5 | B8: Neville Pk | C8: 100
A9: =Data2!A9 -> 6
A10: =Data2!A10 -> 7
A11: =Data2!A11 -> 8
A12: =Data2!A12 -> 9
A13: =Data2!A13 -> 10
A14: =Data2!A14 -> 11
A15: =Data2!A15 -> 12
A16: =Data2!A16 -> 13
A17: =Data2!A17 -> 14
A18: =Data2!A18 -> 15
A19: =Data2!A19 -> 16
A20: =Data2!A20 -> 17
... A39: =Data2!A39 -> 36
A40: =Data2!A40 -> 37 | B40: Silver Birch | C40: 100
A41: =Data2!A41 -> 38
A42: =Data2!A42 -> 39
A43: =Data2!A43 -> 40
A44: =Data2!A44 -> 41
A45: =Data2!A45 -> 42
A46: =Data2!A46 -> 43
A47: =Data2!A47 -> 44
A48: =Data2!A48 -> 45
A49: =Data2!A49 -> 46
A50: =Data2!A50 -> 47
A51: =Data2!A51 -> 48
A52: =Data2!A52 -> 49
... A55: =Data2!A55 -> 52
A56: =Data2!A56 -> 53 | B56: Beech | C56: 100
A57: =Data2!A57 -> 54
A58: =Data2!A58 -> 55
A59: =Data2!A59 -> 56
A60: =Data2!A60 -> 57
...

Sheet Headings
A1: Nov 25-27 (Streetcar) | B1: Nov 27-29 (Bus) | C1: Locations
A3: =$A$25&" "&I3&" to "&I4 -> 501 Queen Westbound Nov 25-27 (Blue, Streetcar) vs Nov 27-29 (Green, Bus) 2019 Average Speed 600 to 700 | I3: 600
A4: =$A$25&" "&I4&" to "&I5 -> 501 Queen Westbound Nov 25-27 (Blue, Streetcar) vs Nov 27-29 (Green, Bus) 2019 Average Speed 700 to 800 | I4: =I3+100 -> 700
A5: =$A$25&" "&I5&" to "&I6 -> 501 Queen Westbound Nov 25-27 (Blue, Streetcar) vs Nov 27-29 (Green, Bus) 2019 Average Speed 800 to 900 | I5: =I4+100 -> 800
A6: =$A$25&" "&I6&" to "&I7 -> 501 Queen Westbound Nov 25-27 (Blue, Streetcar) vs Nov 27-29 (Green, Bus) 2019 Average Speed 900 to 1000 | I6: =I5+100 -> 900
A7: =$A$25&" "&I7&" to "&I8 -> 501 Queen Westbound Nov 25-27 (Blue, Streetcar) vs Nov 27-29 (Green, Bus) 2019 Average Speed 1000 to 1100 | I7: =I6+100 -> 1000
A8: =$A$25&" "&I8&" to "&I9 -> 501 Queen Westbound Nov 25-27 (Blue, Streetcar) vs Nov 27-29 (Green, Bus) 2019 Average Speed 1100 to 1200 | I8: =I7+100 -> 1100
A9: =$A$25&" "&I9&" to "&I10 -> 501 Queen Westbound Nov 25-27 (Blue, Streetcar) vs Nov 27-29 (Green, Bus) 2019 Average Speed 1200 to 1300 | I9: =I8+100 -> 1200
A10: =$A$25&" "&I10&" to "&I11 -> 501 Queen Westbound Nov 25-27 (Blue, Streetcar) vs Nov 27-29 (Green, Bus) 2019 Average Speed 1300 to 1400 | I10: =I9+100 -> 1300
A11: =$A$25&" "&I11&" to "&I12 -> 501 Queen Westbound Nov 25-27 (Blue, Streetcar) vs Nov 27-29 (Green, Bus) 2019 Average Speed 1400 to 1500 | I11: =I10+100 -> 1400
A12: =$A$25&" "&I12&" to "&I13 -> 501 Queen Westbound Nov 25-27 (Blue, Streetcar) vs Nov 27-29 (Green, Bus) 2019 Average Speed 1500 to 1600 | I12: =I11+100 -> 1500
A13: =$A$25&" "&I13&" to "&I14 -> 501 Queen Westbound Nov 25-27 (Blue, Streetcar) vs Nov 27-29 (Green, Bus) 2019 Average Speed 1600 to 1700 | I13: =I12+100 -> 1600
A14: =$A$25&" "&I14&" to "&I15 -> 501 Queen Westbound Nov 25-27 (Blue, Streetcar) vs Nov 27-29 (Green, Bus) 2019 Average Speed 1700 to 1800 | I14: =I13+100 -> 1700
A15: =$A$25&" "&I15&" to "&I16 -> 501 Queen Westbound Nov 25-27 (Blue, Streetcar) vs Nov 27-29 (Green, Bus) 2019 Average Speed 1800 to 1900 | I15: =I14+100 -> 1800
... A22: =$A$25&" "&I22&" to "&I23 -> 501 Queen Westbound Nov 25-27 (Blue, Streetcar) vs Nov 27-29 (Green, Bus) 2019 Average Speed 2500 to 2600 | I22: =I21+100 -> 2500
I23: =I22+100 -> 2600
A25: 501 Queen Westbound Nov 25-27 (Blue, Streetcar) vs Nov 27-29 (Green, Bus) 2019 Average Speed
A26: 501 Queen Westbound Nov 25-27 (Blue, Streetcar) vs Nov 27-29 (Green, Bus) 2019 Speed Difference
A27: ="Bus-Streetcar Speed" -> Bus-Streetcar Speed
A28: Bus:Streetcar Percent
A30: =$A$26&" "&I3&" to "&I4 -> 501 Queen Westbound Nov 25-27 (Blue, Streetcar) vs Nov 27-29 (Green, Bus) 2019 Speed Difference 600 to 700
A31: =$A$26&" "&I4&" to "&I5 -> 501 Queen Westbound Nov 25-27 (Blue, Streetcar) vs Nov 27-29 (Green, Bus) 2019 Speed Difference 700 to 800
A32: =$A$26&" "&I5&" to "&I6 -> 501 Queen Westbound Nov 25-27 (Blue, Streetcar) vs Nov 27-29 (Green, Bus) 2019 Speed Difference 800 to 900
A33: =$A$26&" "&I6&" to "&I7 -> 501 Queen Westbound Nov 25-27 (Blue, Streetcar) vs Nov 27-29 (Green, Bus) 2019 Speed Difference 900 to 1000
A34: =$A$26&" "&I7&" to "&I8 -> 501 Queen Westbound Nov 25-27 (Blue, Streetcar) vs Nov 27-29 (Green, Bus) 2019 Speed Difference 1000 to 1100
A35: =$A$26&" "&I8&" to "&I9 -> 501 Queen Westbound Nov 25-27 (Blue, Streetcar) vs Nov 27-29 (Green, Bus) 2019 Speed Difference 1100 to 1200
A36: =$A$26&" "&I9&" to "&I10 -> 501 Queen Westbound Nov 25-27 (Blue, Streetcar) vs Nov 27-29 (Green, Bus) 2019 Speed Difference 1200 to 1300
A37: =$A$26&" "&I10&" to "&I11 -> 501 Queen Westbound Nov 25-27 (Blue, Streetcar) vs Nov 27-29 (Green, Bus) 2019 Speed Difference 1300 to 1400
A38: =$A$26&" "&I11&" to "&I12 -> 501 Queen Westbound Nov 25-27 (Blue, Streetcar) vs Nov 27-29 (Green, Bus) 2019 Speed Difference 1400 to 1500
A39: =$A$26&" "&I12&" to "&I13 -> 501 Queen Westbound Nov 25-27 (Blue, Streetcar) vs Nov 27-29 (Green, Bus) 2019 Speed Difference 1500 to 1600
A40: =$A$26&" "&I13&" to "&I14 -> 501 Queen Westbound Nov 25-27 (Blue, Streetcar) vs Nov 27-29 (Green, Bus) 2019 Speed Difference 1600 to 1700
A41: =$A$26&" "&I14&" to "&I15 -> 501 Queen Westbound Nov 25-27 (Blue, Streetcar) vs Nov 27-29 (Green, Bus) 2019 Speed Difference 1700 to 1800
... A49: =$A$26&" "&I22&" to "&I23 -> 501 Queen Westbound Nov 25-27 (Blue, Streetcar) vs Nov 27-29 (Green, Bus) 2019 Speed Difference 2500 to 2600

Sheet Data1
A1: 501 Queen Eastbound November 25-26-27 2019 Average Speed
B2: 600 | C2: 700 | D2: 800 | E2: 900 | F2: 1000 | G2: 1100 | H2: 1200 | I2: 1300 | J2: 1400 | K2: 1500 | L2: 1600 | M2: 1700 | N2: 1800 | O2: 1900 | P2: 2000 | Q2: 2100 | R2: 2200 | S2: 2300 | T2: 2400 | U2: 2500 | V2: 2600
A3: 0 | B3: 0.4 | C3: 0.4 | D3: 1 | E3: 0.7 | F3: 0.4 | G3: 1.1 | H3: 0.2 | I3: 0.8 | J3: 0.2 | K3: 0.4 | L3: 1 | M3: 0.6 | N3: 0.3 | O3: 0.4 | P3: 0.8 | Q3: 0.3 | R3: 0.5 | S3: 0.5 | T3: 0.1 | U3: #N/A | V3: #N/A
A4: 1 | B4: 0.4 | C4: 0.3 | D4: 0.5 | E4: 0.4 | F4: 0.2 | G4: 0.4 | H4: 0.7 | I4: 0.1 | J4: 0.1 | K4: 0.4 | L4: 0.2 | M4: 0.3 | N4: 0.4 | O4: 0.5 | P4: 0.3 | Q4: 0.4 | R4: 0.4 | S4: 0.4 | T4: 0.2 | U4: 1.1 | V4: #N/A
A5: 2 | B5: 0.8 | C5: 0.6 | D5: 1.1 | E5: 3 | F5: 0.5 | G5: 0.5 | H5: 1.1 | I5: 0.8 | J5: 0.6 | K5: 1.8 | L5: 1.1 | M5: 0.3 | N5: 1.8 | O5: 9 | P5: 3.1 | Q5: 1.8 | R5: 2.4 | S5: 0.2 | T5: 2.7 | U5: #N/A | V5: #N/A
A6: 3 | B6: 0.9 | C6: 4.7 | D6: 2 | E6: 1 | F6: 2.4 | G6: 0.3 | H6: 2.2 | I6: 3.6 | J6: 2.3 | K6: 4.5 | L6: 6 | M6: 3.6 | N6: 1.8 | O6: 4.8 | P6: 2.4 | Q6: 3.6 | R6: 4.5 | S6: 4.2 | T6: 9 | U6: 3.6 | V6: #N/A
A7: 4 | B7: 1.7 | C7: 5.4 | D7: 1.9 | E7: 5.6 | F7: 3.6 | G7: 0.7 | H7: 4.2 | I7: 4.2 | J7: 3 | K7: 7.2 | L7: 5.4 | M7: 3.6 | N7: 3.1 | O7: 5.4 | P7: 4.5 | Q7: 3.6 | R7: 5.4 | S7: 5.4 | T7: 3.6 | U7: #N/A | V7: #N/A
A8: 5 | B8: 7.8 | C8: 9 | D8: 1.7 | E8: 7.2 | F8: 6.6 | G8: 2.5 | H8: 6.3 | I8: 4.8 | J8: 7.2 | K8: #N/A | L8: 7.7 | M8: 3.6 | N8: 1.2 | O8: 2.2 | P8: 5.4 | Q8: 6.1 | R8: 8.1 | S8: 6.3 | T8: 9 | U8: #N/A | V8: #N/A
A9: 6 | B9: 6 | C9: 8.8 | D9: 5.9 | E9: 7.2 | F9: 8.1 | G9: 4.2 | H9: 1.9 | I9: 9.9 | J9: 6 | K9: 9 | L9: 9 | M9: 6.3 | N9: 7.7 | O9: 10.8 | P9: 4.3 | Q9: 7.8 | R9: 10.8 | S9: 9 | T9: 9.5 | U9: #N/A | V9: #N/A
A10: 7 | B10: 8.4 | C10: 7.2 | D10: 3.2 | E10: 9 | F10: 7.2 | G10: 6.3 | H10: 6.8 | I10: 4.2 | J10: 10.8 | K10: 2.1 | L10: 10.8 | M10: 10.8 | N10: 5.4 | O10: 3.6 | P10: 2.9 | Q10: 8.4 | R10: 12.6 | S10: 9.9 | T10: #N/A | U10: #N/A | V10: #N/A
A11: 8 | B11: 10.4 | C11: 10.8 | D11: 8.1 | E11: 7.7 | F11: 12.6 | G11: 9.9 | H11: 9.9 | I11: 14.4 | J11: 7.2 | K11: 4.5 | L11: 11.7 | M11: 8.1 | N11: 7.2 | O11: 12.6 | P11: 4.1 | Q11: 12.6 | R11: #N/A | S11: 12.6 | T11: 12.6 | U11: #N/A | V11: #N/A
A12: 9 | B12: 9 | C12: 9.7 | D12: 7.7 | E12: 13.8 | F12: 13.5 | G12: 9.7 | H12: 7.9 | I12: 7.2 | J12: 10.8 | K12: 14.4 | L12: 7.2 | M12: 1.8 | N12: 10.8 | O12: #N/A | P12: 0.5 | Q12: 16.2 | R12: 14.4 | S12: 12.6 | T12: 1.8 | U12: #N/A | V12: #N/A
A13: 10 | B13: 8.4 | C13: 1.1 | D13: 2 | E13: 3.6 | F13: 0.4 | G13: 0.4 | H13: 8.6 | I13: 11.7 | J13: 6.4 | K13: 11.7 | L13: 8.4 | M13: #N/A | N13: #N/A | O13: 4.4 | P13: 6.8 | Q13: 1.2 | R13: 2.7 | S13: 13.5 | T13: 2.8 | U13: #N/A | V13: #N/A
A14: 11 | B14: 3.2 | C14: 0.6 | D14: 5.6 | E14: 2.1 | F14: 0.9 | G14: 1.1 | H14: 1.1 | I14: 0.6 | J14: 1.3 | K14: 1.3 | L14: 1.2 | M14: 0.9 | N14: 1.1 | O14: 0.9 | P14: 0.5 | Q14: 0.7 | R14: 0.8 | S14: 1.1 | T14: 0.6 | U14: 2.9 | V14: #N/A
A15: 12 | B15: 1.2 | C15: 5.1 | D15: 2.6 | E15: 2.9 | F15: 6.3 | G15: 0.4 | H15: 1.3 | I15: 1.8 | J15: 3.6 | K15: 3.3 | L15: 2.7 | M15: 0.6 | N15: 3.4 | O15: 2.1 | P15: 1.4 | Q15: 1.1 | R15: 1.4 | S15: 1.8 | T15: 1.8 | U15: #N/A | V15: #N/A
A16: 13 | B16: 7.8 | C16: 3.6 | D16: 5 | E16: 4.2 | F16: 2.7 | G16: 3.6 | H16: 3.6 | I16: 1.8 | J16: 9 | K16: 5.1 | L16: #N/A | M16: 2.7 | N16: #N/A | O16: #N/A | P16: 2.4 | Q16: 0.8 | R16: 2.2 | S16: 7.2 | T16: 4.2 | U16: #N/A | V16: #N/A
A17: 14 | B17: 3.6 | C17: 12.6 | D17: 9 | E17: 5.4 | F17: 6.3 | G17: 7.2 | H17: 4.8 | I17: 3.6 | J17: 3.6 | K17: 3.6 | L17: 3.6 | M17: 3.6 | N17: 3.6 | O17: #N/A | P17: 5.4 | Q17: 1.1 | R17: 1.2 | S17: #N/A | T17: 5.4 | U17: 5.4 | V17: #N/A
A18: 15 | B18: 19.2 | C18: 5.4 | D18: 3.6 | E18: 3.6 | F18: 4.5 | G18: 1 | H18: 7.9 | I18: 14.4 | J18: 5.4 | K18: 6.3 | L18: 2.6 | M18: 3.6 | N18: #N/A | O18: #N/A | P18: 5.4 | Q18: #N/A | R18: 2.7 | S18: 5.4 | T18: 16.2 | U18: #N/A | V18: #N/A
A19: 16 | B19: 7.2 | C19: 12 | D19: 9 | E19: 5.4 | F19: 9 | G19: 1.8 | H19: 7.8 | I19: #N/A | J19: 3.6 | K19: 8.1 | L19: 4.5 | M19: 2.7 | N19: 7.2 | O19: 7.2 | P19: 3.6 | Q19: 8.7 | R19: 6.3 | S19: #N/A | T19: 6.3 | U19: #N/A | V19: #N/A
A20: 17 | B20: 14.4 | C20: 10.8 | D20: 9 | E20: 1.8 | F20: 10.4 | G20: 9 | H20: #N/A | I20: #N/A | J20: 10.2 | K20: #N/A | L20: #N/A | M20: 9 | N20: 8.1 | O20: #N/A | P20: 8.6 | Q20: 9 | R20: 9 | S20: #N/A | T20: #N/A | U20: #N/A | V20: #N/A
A21: 18 | B21: #N/A | C21: 14.4 | D21: 11.4 | E21: #N/A | F21: 12.6 | G21: 12.6 | H21: 12.6 | I21: 12.6 | J21: 12.6 | K21: #N/A | L21: 19.8 | M21: #N/A | N21: #N/A | O21: #N/A | P21: 1.8 | Q21: 3.3 | R21: 10.8 | S21: 11.7 | T21: 7.2 | U21: #N/A | V21: #N/A
A22: 19 | B22: 5 | C22: #N/A | D22: 14 | E22: 8.1 | F22: #N/A | G22: 10.8 | H22: 13.5 | I22: 11.7 | J22: 10.8 | K22: 7.2 | L22: 12.6 | M22: #N/A | N22: #N/A | O22: 12.6 | P22: 1.8 | Q22: 1.8 | R22: 12.6 | S22: 14.4 | T22: 9.9 | U22: #N/A | V22: #N/A
A23: 20 | B23: 19.8 | C23: 11.9 | D23: 17.1 | E23: #N/A | F23: 16.2 | G23: 16.2 | H23: 10.8 | I23: 17.4 | J23: #N/A | K23: #N/A | L23: 10.8 | M23: #N/A | N23: 5.4 | O23: #N/A | P23: #N/A | Q23: 16.2 | R23: 9 | S23: 14.4 | T23: #N/A | U23: #N/A | V23: #N/A
A24: 21 | B24: 14 | C24: 12.6 | D24: #N/A | E24: 18.5 | F24: 18 | G24: 18 | H24: 14.4 | I24: #N/A | J24: #N/A | K24: 18 | L24: #N/A | M24: #N/A | N24: 16.2 | O24: 17.1 | P24: 18 | Q24: 10.8 | R24: 18 | S24: #N/A | T24: #N/A | U24: #N/A | V24: #N/A
A25: 22 | B25: 27 | C25: 19.8 | D25: 18 | E25: 18.9 | F25: 14.4 | G25: 15.3 | H25: 19.8 | I25: 19.8 | J25: 18 | K25: 17.1 | L25: 11.7 | M25: #N/A | N25: #N/A | O25: #N/A | P25: 19.8 | Q25: #N/A | R25: 9 | S25: 19.8 | T25: 5.4 | U25: #N/A | V25: #N/A
A26: 23 | B26: 25.2 | C26: 16.8 | D26: 15 | E26: #N/A | F26: 12.6 | G26: 21.6 | H26: 21.6 | I26: #N/A | J26: 19.8 | K26: 7.2 | L26: 19.8 | M26: 12.6 | N26: 5.4 | O26: 21.6 | P26: 27.9 | Q26: #N/A | R26: #N/A | S26: #N/A | T26: 23.4 | U26: #N/A | V26: #N/A
A27: 24 | B27: 16.2 | C27: #N/A | D27: 21.6 | E27: 20.7 | F27: 19.8 | G27: 23.4 | H27: 20.4 | I27: 16.2 | J27: #N/A | K27: 20.7 | L27: 20.2 | M27: 23.4 | N27: 21.6 | O27: 21.6 | P27: 14.4 | Q27: 14.4 | R27: 12.6 | S27: #N/A | T27: #N/A | U27: #N/A | V27: #N/A
A28: 25 | B28: 25.2 | C28: #N/A | D28: 18 | E28: 25.2 | F28: 16.2 | G28: 23.4 | H28: 3.9 | I28: #N/A | J28: 23.4 | K28: 21.6 | L28: 23.4 | M28: 14.4 | N28: 14.4 | O28: 16.2 | P28: 18.9 | Q28: 25.2 | R28: 18 | S28: #N/A | T28: 18 | U28: #N/A | V28: #N/A
A29: 26 | B29: 18 | C29: 20.7 | D29: 23.4 | E29: 25.2 | F29: 27 | G29: 12.6 | H29: 1.8 | I29: 1.8 | J29: 23.4 | K29: 14.4 | L29: 18 | M29: 19.8 | N29: 26.1 | O29: 25.2 | P29: 23.4 | Q29: 19.8 | R29: 18 | S29: 10.8 | T29: #N/A | U29: #N/A | V29: #N/A
A30: 27 | B30: #N/A | C30: #N/A | D30: 20.7 | E30: #N/A | F30: 18 | G30: 25.7 | H30: 23.4 | I30: 7.2 | J30: 16.2 | K30: #N/A | L30: 25.2 | M30: #N/A | N30: 23.4 | O30: #N/A | P30: #N/A | Q30: 14.4 | R30: #N/A | S30: 20.7 | T30: #N/A | U30: #N/A | V30: #N/A
A31: 28 | B31: 19.8 | C31: 23.8 | D31: #N/A | E31: 28.8 | F31: 28.8 | G31: 21.6 | H31: #N/A | I31: #N/A | J31: 25.2 | K31: #N/A | L31: 28.8 | M31: #N/A | N31: 5.4 | O31: #N/A | P31: 21.6 | Q31: 21.6 | R31: 25.2 | S31: 28.8 | T31: 17.1 | U31: #N/A | V31: #N/A
A32: 29 | B32: 30.6 | C32: 18 | D32: 17.1 | E32: 28.8 | F32: #N/A | G32: 12.6 | H32: #N/A | I32: #N/A | J32: 18.9 | K32: 27 | L32: 10.8 | M32: 23.4 | N32: #N/A | O32: 30.6 | P32: 23.4 | Q32: #N/A | R32: 28.8 | S32: #N/A | T32: #N/A | U32: 27 | V32: #N/A
A33: 30 | B33: 20.7 | C33: 25.2 | D33: 34.2 | E33: #N/A | F33: #N/A | G33: #N/A | H33: 27.5 | I33: 28.8 | J33: 21.6 | K33: 21 | L33: 21.6 | M33: 28.8 | N33: #N/A | O33: #N/A | P33: 21.6 | Q33: 26.6 | R33: 32.4 | S33: 32.4 | T33: 25.2 | U33: #N/A | V33: #N/A
A34: 31 | B34: 29.7 | C34: #N/A | D34: 27 | E34: 30.6 | F34: 14.4 | G34: 5.4 | H34: 32.4 | I34: 21.6 | J34: 25.2 | K34: #N/A | L34: 13.5 | M34: #N/A | N34: 5.4 | O34: #N/A | P34: 25.2 | Q34: 12.6 | R34: 19.8 | S34: 32.4 | T34: 20.4 | U34: #N/A | V34: #N/A
A35: 32 | B35: 36.9 | C35: 21.6 | D35: 18.9 | E35: #N/A | F35: #N/A | G35: 27 | H35: 30.6 | I35: 30.6 | J35: 22.5 | K35: #N/A | L35: 14.4 | M35: #N/A | N35: 27 | O35: #N/A | P35: #N/A | Q35: 26.1 | R35: #N/A | S35: #N/A | T35: #N/A | U35: #N/A | V35: #N/A
A36: 33 | B36: 13.5 | C36: 28.8 | D36: 22.8 | E36: 11.7 | F36: 17.3 | G36: 26.1 | H36: 28.8 | I36: 27 | J36: 28.8 | K36: 32.4 | L36: 28.8 | M36: #N/A | N36: 30.6 | O36: #N/A | P36: #N/A | Q36: 30.6 | R36: 30.6 | S36: 19.8 | T36: #N/A | U36: #N/A | V36: #N/A
A37: 34 | B37: 24 | C37: 25.2 | D37: 23.4 | E37: 23.4 | F37: 13.8 | G37: #N/A | H37: 16.2 | I37: 26.1 | J37: 10.8 | K37: 7.2 | L37: 20.4 | M37: #N/A | N37: 18.9 | O37: 23.4 | P37: #N/A | Q37: 28.8 | R37: 24.6 | S37: 28.8 | T37: #N/A | U37: #N/A | V37: #N/A
A38: 35 | B38: 6.6 | C38: 11.5 | D38: 11.5 | E38: 17.1 | F38: 13.6 | G38: 13.4 | H38: 10 | I38: 0.8 | J38: 9.6 | K38: 25.8 | L38: 18.7 | M38: 14.9 | N38: 15.5 | O38: 19.2 | P38: 6.4 | Q38: 15.6 | R38: 14.6 | S38: 19.8 | T38: 27 | U38: #N/A | V38: #N/A
A39: 36 | B39: 16.2 | C39: 9.5 | D39: 7.2 | E39: 16.8 | F39: 3.6 | G39: 8.4 | H39: 25.2 | I39: 3.6 | J39: 9.2 | K39: 11.2 | L39: 11.2 | M39: 4.8 | N39: 4.4 | O39: 9.3 | P39: 6.6 | Q39: 12.2 | R39: 25.2 | S39: 16.8 | T39: #N/A | U39: #N/A | V39: #N/A
A40: 37 | B40: 21.6 | C40: #N/A | D40: 12 | E40: 14.4 | F40: #N/A | G40: 3.6 | H40: 3.6 | I40: 27 | J40: 1.8 | K40: 5.4 | L40: 6.3 | M40: 3.6 | N40: #N/A | O40: #N/A | P40: 3.6 | Q40: 1.8 | R40: 5.4 | S40: 3.6 | T40: #N/A | U40: #N/A | V40: #N/A
...

Sheet Data2
A1: 501 Queen Eastbound November 27-28-29 2019 Average Speed
B2: 600 | C2: 700 | D2: 800 | E2: 900 | F2: 1000 | G2: 1100 | H2: 1200 | I2: 1300 | J2: 1400 | K2: 1500 | L2: 1600 | M2: 1700 | N2: 1800 | O2: 1900 | P2: 2000 | Q2: 2100 | R2: 2200 | S2: 2300 | T2: 2400 | U2: 2500 | V2: 2600
A3: 0 | B3: 5.4 | C3: 3.9 | D3: 2.1 | E3: 10.2 | F3: 13.5 | G3: 14.4 | H3: 7.8 | I3: 4.2 | J3: 2.7 | K3: 2.5 | L3: 5 | M3: 2.8 | N3: 7.4 | O3: 8.6 | P3: 5.8 | Q3: 1.3 | R3: 8.9 | S3: 3.4 | T3: 8 | U3: 15.8 | V3: 9
A4: 1 | B4: 0.2 | C4: 1.4 | D4: 2.2 | E4: 0.4 | F4: 0.6 | G4: 0.8 | H4: 0.5 | I4: 0.2 | J4: 0.5 | K4: 0.3 | L4: 0.2 | M4: 0.3 | N4: 0.3 | O4: 0.3 | P4: 0.6 | Q4: 0.3 | R4: 0.6 | S4: 0.5 | T4: 0.8 | U4: 0.4 | V4: 0.2
A5: 2 | B5: 0.1 | C5: 0.3 | D5: 0.4 | E5: 0.4 | F5: 0.3 | G5: 0.1 | H5: 0.2 | I5: 0.1 | J5: 0.2 | K5: 0.2 | L5: 0.2 | M5: 0.2 | N5: 0.6 | O5: 0.2 | P5: 0.2 | Q5: 0.2 | R5: 0.2 | S5: 0.2 | T5: 0.4 | U5: 0.5 | V5: 0.1
A6: 3 | B6: 0.1 | C6: 0.7 | D6: 0.9 | E6: 0.4 | F6: 0.4 | G6: 5.4 | H6: 0.3 | I6: 0.2 | J6: 0.3 | K6: 0.2 | L6: 0.1 | M6: 0.4 | N6: 0.3 | O6: 0.2 | P6: 0.2 | Q6: 0.6 | R6: 0.2 | S6: 0.2 | T6: 0.2 | U6: 0.2 | V6: 0.2
A7: 4 | B7: 0.3 | C7: 2.3 | D7: 3.6 | E7: 2.5 | F7: 1.3 | G7: 4.1 | H7: 0.6 | I7: 1.8 | J7: 3.6 | K7: 3.6 | L7: 2.6 | M7: 0.5 | N7: 1.6 | O7: 0.9 | P7: 1 | Q7: 0.8 | R7: 0.3 | S7: 0.2 | T7: 0.4 | U7: 0 | V7: 0.3
A8: 5 | B8: 3.6 | C8: 0.8 | D8: 3 | E8: 0.9 | F8: 2.7 | G8: 0.7 | H8: 1.1 | I8: 1.8 | J8: 3.6 | K8: 0.5 | L8: 0.9 | M8: 1.5 | N8: 1.4 | O8: 3 | P8: 0.9 | Q8: 0.8 | R8: 0.7 | S8: 0.4 | T8: 0.6 | U8: 7.2 | V8: 0.4
A9: 6 | B9: 0.2 | C9: 3.9 | D9: 4.5 | E9: 5.4 | F9: 4.6 | G9: 0.5 | H9: 3.6 | I9: 9 | J9: 7.2 | K9: 1.9 | L9: 1.6 | M9: 3.7 | N9: 2.3 | O9: 4.2 | P9: 1.3 | Q9: 1.8 | R9: 3 | S9: 1.1 | T9: 8.4 | U9: 0.5 | V9: 1
A10: 7 | B10: 0.6 | C10: 1.8 | D10: #N/A | E10: 4.2 | F10: 3.6 | G10: 2.7 | H10: 4.8 | I10: 0.5 | J10: #N/A | K10: 0.5 | L10: 0.7 | M10: 1.6 | N10: 0.7 | O10: 4.4 | P10: 5.4 | Q10: 0.8 | R10: 0.4 | S10: 1.1 | T10: 0.5 | U10: #N/A | V10: 9
A11: 8 | B11: 1.4 | C11: 2.5 | D11: #N/A | E11: 2.1 | F11: 3.6 | G11: 11.7 | H11: 0.5 | I11: #N/A | J11: 10.8 | K11: 0.7 | L11: 0.1 | M11: 0.8 | N11: 0.5 | O11: 2.5 | P11: 1.4 | Q11: 3.6 | R11: 2.9 | S11: 0 | T11: 0.4 | U11: 10.8 | V11: #N/A
A12: 9 | B12: 5.4 | C12: 4.5 | D12: 14.4 | E12: 7.8 | F12: 1 | G12: 16.2 | H12: 6.3 | I12: #N/A | J12: 0 | K12: 4.4 | L12: 1.8 | M12: 0.6 | N12: 1 | O12: 6.3 | P12: 0.4 | Q12: 1.8 | R12: 0.2 | S12: 4.5 | T12: 0.8 | U12: #N/A | V12: 1.8
A13: 10 | B13: 0.5 | C13: 4.1 | D13: 11.4 | E13: 13.3 | F13: 10.8 | G13: 10.8 | H13: 10.8 | I13: 10.8 | J13: 6.8 | K13: 0.7 | L13: 6.6 | M13: 5.4 | N13: 6.4 | O13: 8.4 | P13: 3.5 | Q13: 7.7 | R13: 7.9 | S13: 11.3 | T13: 8 | U13: 9.9 | V13: 9
A14: 11 | B14: 5.4 | C14: 1.2 | D14: 2.4 | E14: 2.5 | F14: 6.3 | G14: 3.9 | H14: 0.6 | I14: 7.2 | J14: 2.3 | K14: 1.4 | L14: 6 | M14: 1.5 | N14: 0.4 | O14: 1 | P14: 1 | Q14: 0.4 | R14: 1.5 | S14: 4.3 | T14: 0.8 | U14: 2.6 | V14: #N/A
A15: 12 | B15: 2.7 | C15: 0.3 | D15: 0.8 | E15: 2.6 | F15: 2 | G15: 0.7 | H15: 0.1 | I15: 0.3 | J15: 9.9 | K15: 1.4 | L15: 0.3 | M15: 0.4 | N15: 2.1 | O15: 0.7 | P15: 2.6 | Q15: 1.5 | R15: 1.9 | S15: 0.2 | T15: 0.4 | U15: #N/A | V15: #N/A
A16: 13 | B16: #N/A | C16: 1.2 | D16: 0.3 | E16: 3.6 | F16: 1 | G16: #N/A | H16: 12.6 | I16: 18 | J16: 5.4 | K16: 0.2 | L16: 3.6 | M16: 0.4 | N16: 6 | O16: 0.6 | P16: 1 | Q16: 0.7 | R16: 0.6 | S16: 0.2 | T16: 0.8 | U16: #N/A | V16: #N/A
A17: 14 | B17: 0.2 | C17: 1.3 | D17: 8.1 | E17: #N/A | F17: 1.8 | G17: #N/A | H17: #N/A | I17: #N/A | J17: #N/A | K17: 4.1 | L17: 1.9 | M17: 2.2 | N17: 2.3 | O17: 0.6 | P17: 4.2 | Q17: 0.6 | R17: 3.6 | S17: #N/A | T17: #N/A | U17: #N/A | V17: #N/A
A18: 15 | B18: 0.2 | C18: 2.8 | D18: 2.7 | E18: 16.2 | F18: #N/A | G18: #N/A | H18: 1.8 | I18: #N/A | J18: #N/A | K18: 9 | L18: #N/A | M18: 1.2 | N18: #N/A | O18: 3 | P18: 0.9 | Q18: 0.5 | R18: 0.3 | S18: #N/A | T18: #N/A | U18: #N/A | V18: #N/A
A19: 16 | B19: 7.7 | C19: 0.9 | D19: 3 | E19: 10.8 | F19: 1.2 | G19: 12.6 | H19: #N/A | I19: #N/A | J19: #N/A | K19: 9.6 | L19: 0.7 | M19: 1.8 | N19: 9 | O19: 1.7 | P19: 9.5 | Q19: 2.7 | R19: 11.9 | S19: 14.4 | T19: 1.5 | U19: 23.4 | V19: #N/A
A20: 17 | B20: 9 | C20: 4.8 | D20: 4.7 | E20: 10.8 | F20: 18.9 | G20: #N/A | H20: 10.8 | I20: #N/A | J20: 9 | K20: 0.9 | L20: 28.8 | M20: 1.5 | N20: 1.1 | O20: 1.6 | P20: 5.7 | Q20: 4.9 | R20: 12.6 | S20: 13.2 | T20: 6.6 | U20: 19.8 | V20: 19.8
A21: 18 | B21: 3.6 | C21: 6.3 | D21: 4.4 | E21: 2.7 | F21: 17.1 | G21: #N/A | H21: 14.4 | I21: #N/A | J21: 23.4 | K21: #N/A | L21: 12.6 | M21: 0.9 | N21: 0.5 | O21: 0.7 | P21: 3.6 | Q21: 2.7 | R21: 0.2 | S21: #N/A | T21: 1.2 | U21: #N/A | V21: #N/A
A22: 19 | B22: 0.2 | C22: 3.6 | D22: 6.8 | E22: 10.8 | F22: 5.4 | G22: 14.4 | H22: 14.4 | I22: 23.4 | J22: #N/A | K22: 2.4 | L22: 23.4 | M22: 8.6 | N22: 9 | O22: 10.8 | P22: 1.2 | Q22: 7 | R22: 9.9 | S22: 12.6 | T22: 1.2 | U22: #N/A | V22: #N/A
A23: 20 | B23: 2.7 | C23: 8.4 | D23: 17.1 | E23: 20.7 | F23: #N/A | G23: #N/A | H23: #N/A | I23: #N/A | J23: #N/A | K23: 3.6 | L23: 0.7 | M23: 0.6 | N23: 10.8 | O23: 4.5 | P23: 1.2 | Q23: 7.7 | R23: 19.2 | S23: 20.7 | T23: 10.8 | U23: #N/A | V23: 25.2
A24: 21 | B24: 6.3 | C24: 0.9 | D24: 3.6 | E24: 16.2 | F24: 1.7 | G24: 19.8 | H24: 19.8 | I24: 19.8 | J24: #N/A | K24: #N/A | L24: 27 | M24: 7.2 | N24: 1 | O24: 5.8 | P24: 17.1 | Q24: 2.1 | R24: 7.8 | S24: #N/A | T24: 0.3 | U24: #N/A | V24: #N/A
A25: 22 | B25: #N/A | C25: 5.4 | D25: #N/A | E25: 23.4 | F25: 11 | G25: 18 | H25: #N/A | I25: #N/A | J25: #N/A | K25: 9 | L25: 14.4 | M25: 19.8 | N25: 19.8 | O25: 9.9 | P25: 1.8 | Q25: 1.8 | R25: 28.8 | S25: #N/A | T25: #N/A | U25: #N/A | V25: #N/A
A26: 23 | B26: 9 | C26: 6.3 | D26: #N/A | E26: 18 | F26: 23.4 | G26: 23.4 | H26: #N/A | I26: #N/A | J26: 21.6 | K26: 19.8 | L26: 9 | M26: 18.9 | N26: 21 | O26: #N/A | P26: 13.2 | Q26: 1.5 | R26: 16.2 | S26: 23.4 | T26: 34.2 | U26: 23.4 | V26: #N/A
A27: 24 | B27: 1.8 | C27: 18 | D27: #N/A | E27: 26.1 | F27: 10.4 | G27: 14.4 | H27: #N/A | I27: 19.8 | J27: #N/A | K27: 23.4 | L27: 0.1 | M27: 0.2 | N27: 10.1 | O27: 25.2 | P27: 8.1 | Q27: 8 | R27: 11.4 | S27: #N/A | T27: #N/A | U27: 32.4 | V27: #N/A
A28: 25 | B28: 1.8 | C28: #N/A | D28: #N/A | E28: 23.4 | F28: 17.4 | G28: 23.4 | H28: 26.1 | I28: #N/A | J28: #N/A | K28: 25.2 | L28: 19.8 | M28: 2.8 | N28: 14 | O28: 21.6 | P28: 17 | Q28: 16.8 | R28: 7.2 | S28: 25.2 | T28: 19.8 | U28: #N/A | V28: 27
A29: 26 | B29: #N/A | C29: 11.3 | D29: 14.4 | E29: 28.8 | F29: #N/A | G29: 27 | H29: #N/A | I29: #N/A | J29: 22.8 | K29: #N/A | L29: 5.4 | M29: 13.1 | N29: 23.4 | O29: 23 | P29: #N/A | Q29: 19.4 | R29: 20.5 | S29: 16.2 | T29: 23.4 | U29: 23.4 | V29: 30.6
A30: 27 | B30: 2.4 | C30: 0.6 | D30: #N/A | E30: #N/A | F30: 29.7 | G30: #N/A | H30: 18 | I30: #N/A | J30: #N/A | K30: 18 | L30: #N/A | M30: #N/A | N30: #N/A | O30: 17.1 | P30: #N/A | Q30: 21.6 | R30: #N/A | S30: #N/A | T30: 28.8 | U30: #N/A | V30: #N/A
A31: 28 | B31: 1.8 | C31: 10.8 | D31: 19.8 | E31: #N/A | F31: 17.1 | G31: #N/A | H31: #N/A | I31: #N/A | J31: #N/A | K31: 22.2 | L31: #N/A | M31: 10.4 | N31: 28.8 | O31: 25.2 | P31: 5.4 | Q31: 2 | R31: #N/A | S31: 3.6 | T31: #N/A | U31: #N/A | V31: #N/A
A32: 29 | B32: 1.5 | C32: 13.2 | D32: 19.8 | E32: #N/A | F32: #N/A | G32: 18 | H32: 28.8 | I32: 32.4 | J32: #N/A | K32: #N/A | L32: 9 | M32: 22.5 | N32: 14 | O32: 19.2 | P32: #N/A | Q32: #N/A | R32: #N/A | S32: 23.4 | T32: #N/A | U32: #N/A | V32: #N/A
A33: 30 | B33: 19.8 | C33: 14.4 | D33: 23.4 | E33: 14.4 | F33: #N/A | G33: #N/A | H33: #N/A | I33: #N/A | J33: #N/A | K33: #N/A | L33: #N/A | M33: 13.2 | N33: 18 | O33: #N/A | P33: 19.8 | Q33: #N/A | R33: 25.2 | S33: 18 | T33: #N/A | U33: #N/A | V33: #N/A
A34: 31 | B34: #N/A | C34: 23.4 | D34: 32.4 | E34: 21.6 | F34: #N/A | G34: #N/A | H34: #N/A | I34: #N/A | J34: 34.2 | K34: 27 | L34: 10.8 | M34: 5.4 | N34: 11.7 | O34: 19.8 | P34: 19.8 | Q34: 12.6 | R34: #N/A | S34: #N/A | T34: #N/A | U34: #N/A | V34: #N/A
A35: 32 | B35: 7.9 | C35: 7.2 | D35: 25.2 | E35: 32.4 | F35: 27 | G35: #N/A | H35: #N/A | I35: #N/A | J35: #N/A | K35: #N/A | L35: 25.2 | M35: 28.8 | N35: 5.6 | O35: #N/A | P35: 30 | Q35: 2.4 | R35: 12.6 | S35: 23.4 | T35: #N/A | U35: #N/A | V35: #N/A
A36: 33 | B36: 2 | C36: #N/A | D36: 14.4 | E36: 21.6 | F36: 23.4 | G36: #N/A | H36: 22.5 | I36: #N/A | J36: 28.8 | K36: 33 | L36: 27.6 | M36: 27 | N36: 30.6 | O36: 6.9 | P36: 25.5 | Q36: 14.8 | R36: 25.2 | S36: 32 | T36: 15.3 | U36: 37.2 | V36: 41.4
A37: 34 | B37: 1.4 | C37: 14.4 | D37: 27 | E37: #N/A | F37: 30.6 | G37: 32.4 | H37: 12.6 | I37: #N/A | J37: 14.4 | K37: 18.6 | L37: 3.6 | M37: 16.2 | N37: 15.5 | O37: 18 | P37: #N/A | Q37: 23.4 | R37: 26.4 | S37: 43.2 | T37: 27 | U37: 30.6 | V37: 30.6
A38: 35 | B38: 0.4 | C38: 5.4 | D38: 14 | E38: 3.9 | F38: 14.2 | G38: #N/A | H38: 27 | I38: 24.6 | J38: 20.7 | K38: 9.9 | L38: 11.4 | M38: 11 | N38: 2.7 | O38: 4.7 | P38: 13.4 | Q38: 5.6 | R38: 2.8 | S38: 6.9 | T38: 27.9 | U38: 43.2 | V38: #N/A
A39: 36 | B39: #N/A | C39: 15.3 | D39: 30.6 | E39: 16 | F39: 24 | G39: 14.4 | H39: 1.8 | I39: #N/A | J39: 32.4 | K39: 5.4 | L39: 10.8 | M39: 1.8 | N39: 10.8 | O39: 15.3 | P39: 27 | Q39: 1.8 | R39: 1.8 | S39: #N/A | T39: #N/A | U39: #N/A | V39: #N/A
A40: 37 | B40: #N/A | C40: 12.6 | D40: 1.8 | E40: #N/A | F40: 9.9 | G40: #N/A | H40: #N/A | I40: #N/A | J40: 9 | K40: #N/A | L40: #N/A | M40: 18.6 | N40: 15.3 | O40: 15.8 | P40: #N/A | Q40: 2.7 | R40: 12.6 | S40: #N/A | T40: #N/A | U40: #N/A | V40: #N/A
...

Sheet Delta
B2: =Data1!B2 -> 600 | C2: =Data1!C2 -> 700 | D2: =Data1!D2 -> 800 | E2: =Data1!E2 -> 900 | F2: =Data1!F2 -> 1000 | G2: =Data1!G2 -> 1100 | H2: =Data1!H2 -> 1200 | I2: =Data1!I2 -> 1300 | ... V2: =Data1!V2 -> 2600
A3: =Data1!A3 -> 0 | B3: =Data2!B3-Data1!B3 -> 5 | C3: =Data2!C3-Data1!C3 -> 3.5 | D3: =Data2!D3-Data1!D3 -> 1.1 | E3: =Data2!E3-Data1!E3 -> 9.5 | F3: =Data2!F3-Data1!F3 -> 13.1 | G3: =Data2!G3-Data1!G3 -> 13.3 | H3: =Data2!H3-Data1!H3 -> 7.6 | I3: =Data2!I3-Data1!I3 -> 3.4 | ... V3: =Data2!V3-Data1!V3 -> #N/A
A4: =Data1!A4 -> 1 | B4: =Data2!B4-Data1!B4 -> -0.2 | C4: =Data2!C4-Data1!C4 -> 1.1 | D4: =Data2!D4-Data1!D4 -> 1.7 | E4: =Data2!E4-Data1!E4 -> 0 | F4: =Data2!F4-Data1!F4 -> 0.4 | G4: =Data2!G4-Data1!G4 -> 0.4 | H4: =Data2!H4-Data1!H4 -> -0.2 | I4: =Data2!I4-Data1!I4 -> 0.1 | ... V4: =Data2!V4-Data1!V4 -> #N/A
A5: =Data1!A5 -> 2 | B5: =Data2!B5-Data1!B5 -> -0.7 | C5: =Data2!C5-Data1!C5 -> -0.3 | D5: =Data2!D5-Data1!D5 -> -0.7 | E5: =Data2!E5-Data1!E5 -> -2.6 | F5: =Data2!F5-Data1!F5 -> -0.2 | G5: =Data2!G5-Data1!G5 -> -0.4 | H5: =Data2!H5-Data1!H5 -> -0.9 | I5: =Data2!I5-Data1!I5 -> -0.7 | ... V5: =Data2!V5-Data1!V5 -> #N/A
A6: =Data1!A6 -> 3 | B6: =Data2!B6-Data1!B6 -> -0.8 | C6: =Data2!C6-Data1!C6 -> -4 | D6: =Data2!D6-Data1!D6 -> -1.1 | E6: =Data2!E6-Data1!E6 -> -0.6 | F6: =Data2!F6-Data1!F6 -> -2 | G6: =Data2!G6-Data1!G6 -> 5.1 | H6: =Data2!H6-Data1!H6 -> -1.9 | I6: =Data2!I6-Data1!I6 -> -3.4 | ... V6: =Data2!V6-Data1!V6 -> #N/A
A7: =Data1!A7 -> 4 | B7: =Data2!B7-Data1!B7 -> -1.4 | C7: =Data2!C7-Data1!C7 -> -3.1 | D7: =Data2!D7-Data1!D7 -> 1.7 | E7: =Data2!E7-Data1!E7 -> -3.1 | F7: =Data2!F7-Data1!F7 -> -2.3 | G7: =Data2!G7-Data1!G7 -> 3.4 | H7: =Data2!H7-Data1!H7 -> -3.6 | I7: =Data2!I7-Data1!I7 -> -2.4 | ... V7: =Data2!V7-Data1!V7 -> #N/A
A8: =Data1!A8 -> 5 | B8: =Data2!B8-Data1!B8 -> -4.2 | C8: =Data2!C8-Data1!C8 -> -8.2 | D8: =Data2!D8-Data1!D8 -> 1.3 | E8: =Data2!E8-Data1!E8 -> -6.3 | F8: =Data2!F8-Data1!F8 -> -3.9 | G8: =Data2!G8-Data1!G8 -> -1.8 | H8: =Data2!H8-Data1!H8 -> -5.2 | I8: =Data2!I8-Data1!I8 -> -3 | ... V8: =Data2!V8-Data1!V8 -> #N/A
A9: =Data1!A9 -> 6 | B9: =Data2!B9-Data1!B9 -> -5.8 | C9: =Data2!C9-Data1!C9 -> -4.9 | D9: =Data2!D9-Data1!D9 -> -1.4 | E9: =Data2!E9-Data1!E9 -> -1.8 | F9: =Data2!F9-Data1!F9 -> -3.5 | G9: =Data2!G9-Data1!G9 -> -3.7 | H9: =Data2!H9-Data1!H9 -> 1.7 | I9: =Data2!I9-Data1!I9 -> -0.9 | ... V9: =Data2!V9-Data1!V9 -> #N/A
A10: =Data1!A10 -> 7 | B10: =Data2!B10-Data1!B10 -> -7.8 | C10: =Data2!C10-Data1!C10 -> -5.4 | D10: =Data2!D10-Data1!D10 -> #N/A | E10: =Data2!E10-Data1!E10 -> -4.8 | F10: =Data2!F10-Data1!F10 -> -3.6 | G10: =Data2!G10-Data1!G10 -> -3.6 | H10: =Data2!H10-Data1!H10 -> -2 | I10: =Data2!I10-Data1!I10 -> -3.7 | ... V10: =Data2!V10-Data1!V10 -> #N/A
A11: =Data1!A11 -> 8 | B11: =Data2!B11-Data1!B11 -> -9 | C11: =Data2!C11-Data1!C11 -> -8.3 | D11: =Data2!D11-Data1!D11 -> #N/A | E11: =Data2!E11-Data1!E11 -> -5.6 | F11: =Data2!F11-Data1!F11 -> -9 | G11: =Data2!G11-Data1!G11 -> 1.8 | H11: =Data2!H11-Data1!H11 -> -9.4 | I11: =Data2!I11-Data1!I11 -> #N/A | ... V11: =Data2!V11-Data1!V11 -> #N/A
A12: =Data1!A12 -> 9 | B12: =Data2!B12-Data1!B12 -> -3.6 | C12: =Data2!C12-Data1!C12 -> -5.2 | D12: =Data2!D12-Data1!D12 -> 6.7 | E12: =Data2!E12-Data1!E12 -> -6 | F12: =Data2!F12-Data1!F12 -> -12.5 | G12: =Data2!G12-Data1!G12 -> 6.5 | H12: =Data2!H12-Data1!H12 -> -1.6 | I12: =Data2!I12-Data1!I12 -> #N/A | ... V12: =Data2!V12-Data1!V12 -> #N/A
A13: =Data1!A13 -> 10 | B13: =Data2!B13-Data1!B13 -> -7.9 | C13: =Data2!C13-Data1!C13 -> 3 | D13: =Data2!D13-Data1!D13 -> 9.4 | E13: =Data2!E13-Data1!E13 -> 9.7 | F13: =Data2!F13-Data1!F13 -> 10.4 | G13: =Data2!G13-Data1!G13 -> 10.4 | H13: =Data2!H13-Data1!H13 -> 2.2 | I13: =Data2!I13-Data1!I13 -> -0.9 | ... V13: =Data2!V13-Data1!V13 -> #N/A
A14: =Data1!A14 -> 11 | B14: =Data2!B14-Data1!B14 -> 2.2 | C14: =Data2!C14-Data1!C14 -> 0.6 | D14: =Data2!D14-Data1!D14 -> -3.2 | E14: =Data2!E14-Data1!E14 -> 0.4 | F14: =Data2!F14-Data1!F14 -> 5.4 | G14: =Data2!G14-Data1!G14 -> 2.8 | H14: =Data2!H14-Data1!H14 -> -0.5 | I14: =Data2!I14-Data1!I14 -> 6.6 | ... V14: =Data2!V14-Data1!V14 -> #N/A
... A1612: =Data1!A1612 -> 1609 | B1612: =Data2!B1612-Data1!B1612 -> #N/A | C1612: =Data2!C1612-Data1!C1612 -> #N/A | D1612: =Data2!D1612-Data1!D1612 -> #N/A | E1612: =Data2!E1612-Data1!E1612 -> 20.4 | F1612: =Data2!F1612-Data1!F1612 -> #N/A | G1612: =Data2!G1612-Data1!G1612 -> #N/A | H1612: =Data2!H1612-Data1!H1612 -> 3.6 | I1612: =Data2!I1612-Data1!I1612 -> #N/A | ... V1612: =Data2!V1612-Data1!V1612 -> #N/A
