Workbook

Sheet TPData
A1: =Data2!A1 -> 501 Queen Eastbound November 27-28-29 2019 Average Speed
A2: =Data2!A2 -> 0
A3: =Data2!A3 -> 0
A4: =Data2!A4 -> 1
A5: =Data2!A5 -> 2
A6: =Data2!A6 -> 3
A7: =Data2!A7 -> 4
A8: =Data2!A8 -> 5 | B8: Neville Pk | C8: 100
A9: =Data2!A9 -> 6
A10: =Data2!A10 -> 7
A11: =Data2!A11 -> 8
A12: =Data2!A12 -> 9
A13: =Data2!A13 -> 10
A14: =Data2!A14 -> 11
A15: =Data2!A15 -> 12
A16: =Data2!A16 -> 13
A17: =Data2!A17 -> 14
A18: =Data2!A18 -> 15
A19: =Data2!A19 -> 16
A20: =Data2!A20 -> 17
... A39: =Data2!A39 -> 36
A40: =Data2!A40 -> 37 | B40: Silver Birch | C40: 100
A41: =Data2!A41 -> 38
A42: =Data2!A42 -> 39
A43: =Data2!A43 -> 40
A44: =Data2!A44 -> 41
A45: =Data2!A45 -> 42
A46: =Data2!A46 -> 43
A47: =Data2!A47 -> 44
A48: =Data2!A48 -> 45
A49: =Data2!A49 -> 46
A50: =Data2!A50 -> 47
A51: =Data2!A51 -> 48
A52: =Data2!A52 -> 49
... A55: =Data2!A55 -> 52
A56: =Data2!A56 -> 53 | B56: Beech | C56: 100
A57: =Data2!A57 -> 54
A58: =Data2!A58 -> 55
A59: =Data2!A59 -> 56
A60: =Data2!A60 -> 57
A61: =Data2!A61 -> 58
A62: =Data2!A62 -> 59
A63: =Data2!A63 -> 60
A64: =Data2!A64 -> 61
A65: =Data2!A65 -> 62
A66: =Data2!A66 -> 63
A67: =Data2!A67 -> 64
A68: =Data2!A68 -> 65
... A97: =Data2!A97 -> 94
A98: =Data2!A98 -> 95 | B98: Glen Manor | C98: 100
A99: =Data2!A99 -> 96
A100: =Data2!A100 -> 97
A101: =Data2!A101 -> 98
A102: =Data2!A102 -> 99
A103: =Data2!A103 -> 100
A104: =Data2!A104 -> 101
A105: =Data2!A105 -> 102
A106: =Data2!A106 -> 103
A107: =Data2!A107 -> 104
A108: =Data2!A108 -> 105
A109: =Data2!A109 -> 106
A110: =Data2!A110 -> 107
... A124: =Data2!A124 -> 121
A125: =Data2!A125 -> 122 | B125: Wineva | C125: 100
A126: =Data2!A126 -> 123
A127: =Data2!A127 -> 124
A128: =Data2!A128 -> 125
A129: =Data2!A129 -> 126
A130: =Data2!A130 -> 127
A131: =Data2!A131 -> 128
A132: =Data2!A132 -> 129
A133: =Data2!A133 -> 130
A134: =Data2!A134 -> 131
A135: =Data2!A135 -> 132
A136: =Data2!A136 -> 133
A137: =Data2!A137 -> 134
... A146: =Data2!A146 -> 143
A147: =Data2!A147 -> 144 | B147: Lee | C147: 100
A148: =Data2!A148 -> 145
A149: =Data2!A149 -> 146
A150: =Data2!A150 -> 147
A151: =Data2!A151 -> 148
A152: =Data2!A152 -> 149
A153: =Data2!A153 -> 150
A154: =Data2!A154 -> 151
A155: =Data2!A155 -> 152
A156: =Data2!A156 -> 153
A157: =Data2!A157 -> 154
A158: =Data2!A158 -> 155
A159: =Data2!A159 -> 156
... A211: =Data2!A211 -> 208
A212: =Data2!A212 -> 209 | B212: Woodbine | C212: 100
A213: =Data2!A213 -> 210
A214: =Data2!A214 -> 211
A215: =Data2!A215 -> 212
A216: =Data2!A216 -> 213
A217: =Data2!A217 -> 214
A218: =Data2!A218 -> 215
A219: =Data2!A219 -> 216
A220: =Data2!A220 -> 217
...

Sheet Headings
A1: Nov 25-27 (Streetcar) | B1: Nov 27-29 (Bus) | C1: Locations
A3: =$A$25&" "&I3&" to "&I4 -> 501 Queen Westbound Nov 25-27 (Blue, Streetcar) vs Nov 27-29 (Green, Bus) 2019 Average Speed 600 to 700 | I3: 600
A4: =$A$25&" "&I4&" to "&I5 -> 501 Queen Westbound Nov 25-27 (Blue, Streetcar) vs Nov 27-29 (Green, Bus) 2019 Average Speed 700 to 800 | I4: =I3+100 -> 700
A5: =$A$25&" "&I5&" to "&I6 -> 501 Queen Westbound Nov 25-27 (Blue, Streetcar) vs Nov 27-29 (Green, Bus) 2019 Average Speed 800 to 900 | I5: =I4+100 -> 800
A6: =$A$25&" "&I6&" to "&I7 -> 501 Queen Westbound Nov 25-27 (Blue, Streetcar) vs Nov 27-29 (Green, Bus) 2019 Average Speed 900 to 1000 | I6: =I5+100 -> 900
A7: =$A$25&" "&I7&" to "&I8 -> 501 Queen Westbound Nov 25-27 (Blue, Streetcar) vs Nov 27-29 (Green, Bus) 2019 Average Speed 1000 to 1100 | I7: =I6+100 -> 1000
A8: =$A$25&" "&I8&" to "&I9 -> 501 Queen Westbound Nov 25-27 (Blue, Streetcar) vs Nov 27-29 (Green, Bus) 2019 Average Speed 1100 to 1200 | I8: =I7+100 -> 1100
A9: =$A$25&" "&I9&" to "&I10 -> 501 Queen Westbound Nov 25-27 (Blue, Streetcar) vs Nov 27-29 (Green, Bus) 2019 Average Speed 1200 to 1300 | I9: =I8+100 -> 1200
A10: =$A$25&" "&I10&" to "&I11 -> 501 Queen Westbound Nov 25-27 (Blue, Streetcar) vs Nov 27-29 (Green, Bus) 2019 Average Speed 1300 to 1400 | I10: =I9+100 -> 1300
A11: =$A$25&" "&I11&" to "&I12 -> 501 Queen Westbound Nov 25-27 (Blue, Streetcar) vs Nov 27-29 (Green, Bus) 2019 Average Speed 1400 to 1500 | I11: =I10+100 -> 1400
A12: =$A$25&" "&I12&" to "&I13 -> 501 Queen Westbound Nov 25-27 (Blue, Streetcar) vs Nov 27-29 (Green, Bus) 2019 Average Speed 1500 to 1600 | I12: =I11+100 -> 1500
A13: =$A$25&" "&I13&" to "&I14 -> 501 Queen Westbound Nov 25-27 (Blue, Streetcar) vs Nov 27-29 (Green, Bus) 2019 Average Speed 1600 to 1700 | I13: =I12+100 -> 1600
A14: =$A$25&" "&I14&" to "&I15 -> 501 Queen Westbound Nov 25-27 (Blue, Streetcar) vs Nov 27-29 (Green, Bus) 2019 Average Speed 1700 to 1800 | I14: =I13+100 -> 1700
A15: =$A$25&" "&I15&" to "&I16 -> 501 Queen Westbound Nov 25-27 (Blue, Streetcar) vs Nov 27-29 (Green, Bus) 2019 Average Speed 1800 to 1900 | I15: =I14+100 -> 1800
... A22: =$A$25&" "&I22&" to "&I23 -> 501 Queen Westbound Nov 25-27 (Blue, Streetcar) vs Nov 27-29 (Green, Bus) 2019 Average Speed 2500 to 2600 | I22: =I21+100 -> 2500
I23: =I22+100 -> 2600
A25: 501 Queen Westbound Nov 25-27 (Blue, Streetcar) vs Nov 27-29 (Green, Bus) 2019 Average Speed
A26: 501 Queen Westbound Nov 25-27 (Blue, Streetcar) vs Nov 27-29 (Green, Bus) 2019 Speed Difference
A27: ="Bus-Streetcar Speed" -> Bus-Streetcar Speed
A28: Bus:Streetcar Percent
A30: =$A$26&" "&I3&" to "&I4 -> 501 Queen Westbound Nov 25-27 (Blue, Streetcar) vs Nov 27-29 (Green, Bus) 2019 Speed Difference 600 to 700
A31: =$A$26&" "&I4&" to "&I5 -> 501 Queen Westbound Nov 25-27 (Blue, Streetcar) vs Nov 27-29 (Green, Bus) 2019 Speed Difference 700 to 800
A32: =$A$26&" "&I5&" to "&I6 -> 501 Queen Westbound Nov 25-27 (Blue, Streetcar) vs Nov 27-29 (Green, Bus) 2019 Speed Difference 800 to 900
A33: =$A$26&" "&I6&" to "&I7 -> 501 Queen Westbound Nov 25-27 (Blue, Streetcar) vs Nov 27-29 (Green, Bus) 2019 Speed Difference 900 to 1000
A34: =$A$26&" "&I7&" to "&I8 -> 501 Queen Westbound Nov 25-27 (Blue, Streetcar) vs Nov 27-29 (Green, Bus) 2019 Speed Difference 1000 to 1100
A35: =$A$26&" "&I8&" to "&I9 -> 501 Queen Westbound Nov 25-27 (Blue, Streetcar) vs Nov 27-29 (Green, Bus) 2019 Speed Difference 1100 to 1200
A36: =$A$26&" "&I9&" to "&I10 -> 501 Queen Westbound Nov 25-27 (Blue, Streetcar) vs Nov 27-29 (Green, Bus) 2019 Speed Difference 1200 to 1300
A37: =$A$26&" "&I10&" to "&I11 -> 501 Queen Westbound Nov 25-27 (Blue, Streetcar) vs Nov 27-29 (Green, Bus) 2019 Speed Difference 1300 to 1400
A38: =$A$26&" "&I11&" to "&I12 -> 501 Queen Westbound Nov 25-27 (Blue, Streetcar) vs Nov 27-29 (Green, Bus) 2019 Speed Difference 1400 to 1500
A39: =$A$26&" "&I12&" to "&I13 -> 501 Queen Westbound Nov 25-27 (Blue, Streetcar) vs Nov 27-29 (Green, Bus) 2019 Speed Difference 1500 to 1600
A40: =$A$26&" "&I13&" to "&I14 -> 501 Queen Westbound Nov 25-27 (Blue, Streetcar) vs Nov 27-29 (Green, Bus) 2019 Speed Difference 1600 to 1700
A41: =$A$26&" "&I14&" to "&I15 -> 501 Queen Westbound Nov 25-27 (Blue, Streetcar) vs Nov 27-29 (Green, Bus) 2019 Speed Difference 1700 to 1800
... A49: =$A$26&" "&I22&" to "&I23 -> 501 Queen Westbound Nov 25-27 (Blue, Streetcar) vs Nov 27-29 (Green, Bus) 2019 Speed Difference 2500 to 2600

Sheet Data1
A1: 501 Queen Eastbound November 25-26-27 2019 Average Speed
B2: 600 | C2: 700 | D2: 800 | E2: 900 | F2: 1000 | G2: 1100 | H2: 1200 | I2: 1300 | J2: 1400 | K2: 1500 | L2: 1600 | M2: 1700 | N2: 1800 | O2: 1900 | P2: 2000 | Q2: 2100 | R2: 2200 | S2: 2300 | T2: 2400 | U2: 2500 | V2: 2600
A3: 0 | B3: 0.4 | C3: 0.4 | D3: 1 | E3: 0.7 | F3: 0.4 | G3: 1.1 | H3: 0.2 | I3: 0.8 | J3: 0.2 | K3: 0.4 | L3: 1 | M3: 0.6 | N3: 0.3 | O3: 0.4 | P3: 0.8 | Q3: 0.3 | R3: 0.5 | S3: 0.5 | T3: 0.1 | U3: #N/A | V3: #N/A
A4: 1 | B4: 0.4 | C4: 0.3 | D4: 0.5 | E4: 0.4 | F4: 0.2 | G4: 0.4 | H4: 0.7 | I4: 0.1 | J4: 0.1 | K4: 0.4 | L4: 0.2 | M4: 0.3 | N4: 0.4 | O4: 0.5 | P4: 0.3 | Q4: 0.4 | R4: 0.4 | S4: 0.4 | T4: 0.2 | U4: 1.1 | V4: #N/A
A5: 2 | B5: 0.8 | C5: 0.6 | D5: 1.1 | E5: 3 | F5: 0.5 | G5: 0.5 | H5: 1.1 | I5: 0.8 | J5: 0.6 | K5: 1.8 | L5: 1.1 | M5: 0.3 | N5: 1.8 | O5: 9 | P5: 3.1 | Q5: 1.8 | R5: 2.4 | S5: 0.2 | T5: 2.7 | U5: #N/A | V5: #N/A
A6: 3 | B6: 0.9 | C6: 4.7 | D6: 2 | E6: 1 | F6: 2.4 | G6: 0.3 | H6: 2.2 | I6: 3.6 | J6: 2.3 | K6: 4.5 | L6: 6 | M6: 3.6 | N6: 1.8 | O6: 4.8 | P6: 2.4 | Q6: 3.6 | R6: 4.5 | S6: 4.2 | T6: 9 | U6: 3.6 | V6: #N/A
A7: 4 | B7: 1.7 | C7: 5.4 | D7: 1.9 | E7: 5.6 | F7: 3.6 | G7: 0.7 | H7: 4.2 | I7: 4.2 | J7: 3 | K7: 7.2 | L7: 5.4 | M7: 3.6 | N7: 3.1 | O7: 5.4 | P7: 4.5 | Q7: 3.6 | R7: 5.4 | S7: 5.4 | T7: 3.6 | U7: #N/A | V7: #N/A
A8: 5 | B8: 7.8 | C8: 9 | D8: 1.7 | E8: 7.2 | F8: 6.6 | G8: 2.5 | H8: 6.3 | I8: 4.8 | J8: 7.2 | K8: #N/A | L8: 7.7 | M8: 3.6 | N8: 1.2 | O8: 2.2 | P8: 5.4 | Q8: 6.1 | R8: 8.1 | S8: 6.3 | T8: 9 | U8: #N/A | V8: #N/A
A9: 6 | B9: 6 | C9: 8.8 | D9: 5.9 | E9: 7.2 | F9: 8.1 | G9: 4.2 | H9: 1.9 | I9: 9.9 | J9: 6 | K9: 9 | L9: 9 | M9: 6.3 | N9: 7.7 | O9: 10.8 | P9: 4.3 | Q9: 7.8 | R9: 10.8 | S9: 9 | T9: 9.5 | U9: #N/A | V9: #N/A
A10: 7 | B10: 8.4 | C10: 7.2 | D10: 3.2 | E10: 9 | F10: 7.2 | G10: 6.3 | H10: 6.8 | I10: 4.2 | J10: 10.8 | K10: 2.1 | L10: 10.8 | M10: 10.8 | N10: 5.4 | O10: 3.6 | P10: 2.9 | Q10: 8.4 | R10: 12.6 | S10: 9.9 | T10: #N/A | U10: #N/A | V10: #N/A
A11: 8 | B11: 10.4 | C11: 10.8 | D11: 8.1 | E11: 7.7 | F11: 12.6 | G11: 9.9 | H11: 9.9 | I11: 14.4 | J11: 7.2 | K11: 4.5 | L11: 11.7 | M11: 8.1 | N11: 7.2 | O11: 12.6 | P11: 4.1 | Q11: 12.6 | R11: #N/A | S11: 12.6 | T11: 12.6 | U11: #N/A | V11: #N/A
A12: 9 | B12: 9 | C12: 9.7 | D12: 7.7 | E12: 13.8 | F12: 13.5 | G12: 9.7 | H12: 7.9 | I12: 7.2 | J12: 10.8 | K12: 14.4 | L12: 7.2 | M12: 1.8 | N12: 10.8 | O12: #N/A | P12: 0.5 | Q12: 16.2 | R12: 14.4 | S12: 12.6 | T12: 1.8 | U12: #N/A | V12: #N/A
A13: 10 | B13: 8.4 | C13: 1.1 | D13: 2 | E13: 3.6 | F13: 0.4 | G13: 0.4 | H13: 8.6 | I13: 11.7 | J13: 6.4 | K13: 11.7 | L13: 8.4 | M13: #N/A | N13: #N/A | O13: 4.4 | P13: 6.8 | Q13: 1.2 | R13: 2.7 | S13: 13.5 | T13: 2.8 | U13: #N/A | V13: #N/A
A14: 11 | B14: 3.2 | C14: 0.6 | D14: 5.6 | E14: 2.1 | F14: 0.9 | G14: 1.1 | H14: 1.1 | I14: 0.6 | J14: 1.3 | K14: 1.3 | L14: 1.2 | M14: 0.9 | N14: 1.1 | O14: 0.9 | P14: 0.5 | Q14: 0.7 | R14: 0.8 | S14: 1.1 | T14: 0.6 | U14: 2.9 | V14: #N/A
A15: 12 | B15: 1.2 | C15: 5.1 | D15: 2.6 | E15: 2.9 | F15: 6.3 | G15: 0.4 | H15: 1.3 | I15: 1.8 | J15: 3.6 | K15: 3.3 | L15: 2.7 | M15: 0.6 | N15: 3.4 | O15: 2.1 | P15: 1.4 | Q15: 1.1 | R15: 1.4 | S15: 1.8 | T15: 1.8 | U15: #N/A | V15: #N/A
A16: 13 | B16: 7.8 | C16: 3.6 | D16: 5 | E16: 4.2 | F16: 2.7 | G16: 3.6 | H16: 3.6 | I16: 1.8 | J16: 9 | K16: 5.1 | L16: #N/A | M16: 2.7 | N16: #N/A | O16: #N/A | P16: 2.4 | Q16: 0.8 | R16: 2.2 | S16: 7.2 | T16: 4.2 | U16: #N/A | V16: #N/A
A17: 14 | B17: 3.6 | C17: 12.6 | D17: 9 | E17: 5.4 | F17: 6.3 | G17: 7.2 | H17: 4.8 | I17: 3.6 | J17: 3.6 | K17: 3.6 | L17: 3.6 | M17: 3.6 | N17: 3.6 | O17: #N/A | P17: 5.4 | Q17: 1.1 | R17: 1.2 | S17: #N/A | T17: 5.4 | U17: 5.4 | V17: #N/A
A18: 15 | B18: 19.2 | C18: 5.4 | D18: 3.6 | E18: 3.6 | F18: 4.5 | G18: 1 | H18: 7.9 | I18: 14.4 | J18: 5.4 | K18: 6.3 | L18: 2.6 | M18: 3.6 | N18: #N/A | O18: #N/A | P18: 5.4 | Q18: #N/A | R18: 2.7 | S18: 5.4 | T18: 16.2 | U18: #N/A | V18: #N/A
A19: 16 | B19: 7.2 | C19: 12 | D19: 9 | E19: 5.4 | F19: 9 | G19: 1.8 | H19: 7.8 | I19: #N/A | J19: 3.6 | K19: 8.1 | L19: 4.5 | M19: 2.7 | N19: 7.2 | O19: 7.2 | P19: 3.6 | Q19: 8.7 | R19: 6.3 | S19: #N/A | T19: 6.3 | U19: #N/A | V19: #N/A
A20: 17 | B20: 14.4 | C20: 10.8 | D20: 9 | E20: 1.8 | F20: 10.4 | G20: 9 | H20: #N/A | I20: #N/A | J20: 10.2 | K20: #N/A | L20: #N/A | M20: 9 | N20: 8.1 | O20: #N/A | P20: 8.6 | Q20: 9 | R20: 9 | S20: #N/A | T20: #N/A | U20: #N/A | V20: #N/A
A21: 18 | B21: #N/A | C21: 14.4 | D21: 11.4 | E21: #N/A | F21: 12.6 | G21: 12.6 | H21: 12.6 | I21: 12.6 | J21: 12.6 | K21: #N/A | L21: 19.8 | M21: #N/A | N21: #N/A | O21: #N/A | P21: 1.8 | Q21: 3.3 | R21: 10.8 | S21: 11.7 | T21: 7.2 | U21: #N/A | V21: #N/A
A22: 19 | B22: 5 | C22: #N/A | D22: 14 | E22: 8.1 | F22: #N/A | G22: 10.8 | H22: 13.5 | I22: 11.7 | J22: 10.8 | K22: 7.2 | L22: 12.6 | M22: #N/A | N22: #N/A | O22: 12.6 | P22: 1.8 | Q22: 1.8 | R22: 12.6 | S22: 14.4 | T22: 9.9 | U22: #N/A | V22: #N/A
A23: 20 | B23: 19.8 | C23: 11.9 | D23: 17.1 | E23: #N/A | F23: 16.2 | G23: 16.2 | H23: 10.8 | I23: 17.4 | J23: #N/A | K23: #N/A | L23: 10.8 | M23: #N/A | N23: 5.4 | O23: #N/A | P23: #N/A | Q23: 16.2 | R23: 9 | S23: 14.4 | T23: #N/A | U23: #N/A | V23: #N/A
A24: 21 | B24: 14 | C24: 12.6 | D24: #N/A | E24: 18.5 | F24: 18 | G24: 18 | H24: 14.4 | I24: #N/A | J24: #N/A | K24: 18 | L24: #N/A | M24: #N/A | N24: 16.2 | O24: 17.1 | P24: 18 | Q24: 10.8 | R24: 18 | S24: #N/A | T24: #N/A | U24: #N/A | V24: #N/A
A25: 22 | B25: 27 | C25: 19.8 | D25: 18 | E25: 18.9 | F25: 14.4 | G25: 15.3 | H25: 19.8 | I25: 19.8 | J25: 18 | K25: 17.1 | L25: 11.7 | M25: #N/A | N25: #N/A | O25: #N/A | P25: 19.8 | Q25: #N/A | R25: 9 | S25: 19.8 | T25: 5.4 | U25: #N/A | V25: #N/A
A26: 23 | B26: 25.2 | C26: 16.8 | D26: 15 | E26: #N/A | F26: 12.6 | G26: 21.6 | H26: 21.6 | I26: #N/A | J26: 19.8 | K26: 7.2 | L26: 19.8 | M26: 12.6 | N26: 5.4 | O26: 21.6 | P26: 27.9 | Q26: #N/A | R26: #N/A | S26: #N/A | T26: 23.4 | U26: #N/A | V26: #N/A
A27: 24 | B27: 16.2 | C27: #N/A | D27: 21.6 | E27: 20.7 | F27: 19.8 | G27: 23.4 | H27: 20.4 | I27: 16.2 | J27: #N/A | K27: 20.7 | L27: 20.2 | M27: 23.4 | N27: 21.6 | O27: 21.6 | P27: 14.4 | Q27: 14.4 | R27: 12.6 | S27: #N/A | T27: #N/A | U27: #N/A | V27: #N/A
A28: 25 | B28: 25.2 | C28: #N/A | D28: 18 | E28: 25.2 | F28: 16.2 | G28: 23.4 | H28: 3.9 | I28: #N/A | J28: 23.4 | K28: 21.6 | L28: 23.4 | M28: 14.4 | N28: 14.4 | O28: 16.2 | P28: 18.9 | Q28: 25.2 | R28: 18 | S28: #N/A | T28: 18 | U28: #N/A | V28: #N/A
A29: 26 | B29: 18 | C29: 20.7 | D29: 23.4 | E29: 25.2 | F29: 27 | G29: 12.6 | H29: 1.8 | I29: 1.8 | J29: 23.4 | K29: 14.4 | L29: 18 | M29: 19.8 | N29: 26.1 | O29: 25.2 | P29: 23.4 | Q29: 19.8 | R29: 18 | S29: 10.8 | T29: #N/A | U29: #N/A | V29: #N/A
A30: 27 | B30: #N/A | C30: #N/A | D30: 20.7 | E30: #N/A | F30: 18 | G30: 25.7 | H30: 23.4 | I30: 7.2 | J30: 16.2 | K30: #N/A | L30: 25.2 | M30: #N/A | N30: 23.4 | O30: #N/A | P30: #N/A | Q30: 14.4 | R30: #N/A | S30: 20.7 | T30: #N/A | U30: #N/A | V30: #N/A
A31: 28 | B31: 19.8 | C31: 23.8 | D31: #N/A | E31: 28.8 | F31: 28.8 | G31: 21.6 | H31: #N/A | I31: #N/A | J31: 25.2 | K31: #N/A | L31: 28.8 | M31: #N/A | N31: 5.4 | O31: #N/A | P31: 21.6 | Q31: 21.6 | R31: 25.2 | S31: 28.8 | T31: 17.1 | U31: #N/A | V31: #N/A
A32: 29 | B32: 30.6 | C32: 18 | D32: 17.1 | E32: 28.8 | F32: #N/A | G32: 12.6 | H32: #N/A | I32: #N/A | J32: 18.9 | K32: 27 | L32: 10.8 | M32: 23.4 | N32: #N/A | O32: 30.6 | P32: 23.4 | Q32: #N/A | R32: 28.8 | S32: #N/A | T32: #N/A | U32: 27 | V32: #N/A
A33: 30 | B33: 20.7 | C33: 25.2 | D33: 34.2 | E33: #N/A | F33: #N/A | G33: #N/A | H33: 27.5 | I33: 28.8 | J33: 21.6 | K33: 21 | L33: 21.6 | M33: 28.8 | N33: #N/A | O33: #N/A | P33: 21.6 | Q33: 26.6 | R33: 32.4 | S33: 32.4 | T33: 25.2 | U33: #N/A | V33: #N/A
A34: 31 | B34: 29.7 | C34: #N/A | D34: 27 | E34: 30.6 | F34: 14.4 | G34: 5.4 | H34: 32.4 | I34: 21.6 | J34: 25.2 | K34: #N/A | L34: 13.5 | M34: #N/A | N34: 5.4 | O34: #N/A | P34: 25.2 | Q34: 12.6 | R34: 19.8 | S34: 32.4 | T34: 20.4 | U34: #N/A | V34: #N/A
A35: 32 | B35: 36.9 | C35: 21.6 | D35: 18.9 | E35: #N/A | F35: #N/A | G35: 27 | H35: 30.6 | I35: 30.6 | J35: 22.5 | K35: #N/A | L35: 14.4 | M35: #N/A | N35: 27 | O35: #N/A | P35: #N/A | Q35: 26.1 | R35: #N/A | S35: #N/A | T35: #N/A | U35: #N/A | V35: #N/A
A36: 33 | B36: 13.5 | C36: 28.8 | D36: 22.8 | E36: 11.7 | F36: 17.3 | G36: 26.1 | H36: 28.8 | I36: 27 | J36: 28.8 | K36: 32.4 | L36: 28.8 | M36: #N/A | N36: 30.6 | O36: #N/A | P36: #N/A | Q36: 30.6 | R36: 30.6 | S36: 19.8 | T36: #N/A | U36: #N/A | V36: #N/A
A37: 34 | B37: 24 | C37: 25.2 | D37: 23.4 | E37: 23.4 | F37: 13.8 | G37: #N/A | H37: 16.2 | I37: 26.1 | J37: 10.8 | K37: 7.2 | L37: 20.4 | M37: #N/A | N37: 18.9 | O37: 23.4 | P37: #N/A | Q37: 28.8 | R37: 24.6 | S37: 28.8 | T37: #N/A | U37: #N/A | V37: #N/A
A38: 35 | B38: 6.6 | C38: 11.5 | D38: 11.5 | E38: 17.1 | F38: 13.6 | G38: 13.4 | H38: 10 | I38: 0.8 | J38: 9.6 | K38: 25.8 | L38: 18.7 | M38: 14.9 | N38: 15.5 | O38: 19.2 | P38: 6.4 | Q38: 15.6 | R38: 14.6 | S38: 19.8 | T38: 27 | U38: #N/A | V38: #N/A
A39: 36 | B39: 16.2 | C39: 9.5 | D39: 7.2 | E39: 16.8 | F39: 3.6 | G39: 8.4 | H39: 25.2 | I39: 3.6 | J39: 9.2 | K39: 11.2 | L39: 11.2 | M39: 4.8 | N39: 4.4 | O39: 9.3 | P39: 6.6 | Q39: 12.2 | R39: 25.2 | S39: 16.8 | T39: #N/A | U39: #N/A | V39: #N/A
A40: 37 | B40: 21.6 | C40: #N/A | D40: 12 | E40: 14.4 | F40: #N/A | G40: 3.6 | H40: 3.6 | I40: 27 | J40: 1.8 | K40: 5.4 | L40: 6.3 | M40: 3.6 | N40: #N/A | O40: #N/A | P40: 3.6 | Q40: 1.8 | R40: 5.4 | S40: 3.6 | T40: #N/A | U40: #N/A | V40: #N/A
A41: 38 | B41: 29.3 | C41: #N/A | D41: 23.4 | E41: 30.6 | F41: 25.7 | G41: 5.4 | H41: #N/A | I41: #N/A | J41: 3.6 | K41: 12.6 | L41: 5.4 | M41: 5.4 | N41: 5.4 | O41: #N/A | P41: 13.5 | Q41: 5.4 | R41: 4.5 | S41: #N/A | T41: #N/A | U41: #N/A | V41: #N/A
A42: 39 | B42: 26.6 | C42: 28.8 | D42: #N/A | E42: #N/A | F42: 61.2 | G42: #N/A | H42: 7.2 | I42: #N/A | J42: 9.9 | K42: 5.4 | L42: 12.6 | M42: 5.4 | N42: 6.3 | O42: 17.1 | P42: 25.2 | Q42: 5.4 | R42: 17.1 | S42: 7.2 | T42: 7.2 | U42: #N/A | V42: #N/A
A43: 40 | B43: 18 | C43: 16.2 | D43: #N/A | E43: 9 | F43: 15.5 | G43: 24.6 | H43: #N/A | I43: #N/A | J43: 9 | K43: 34.2 | L43: 8.1 | M43: #N/A | N43: #N/A | O43: 8.4 | P43: 14.4 | Q43: #N/A | R43: #N/A | S43: 12.6 | T43: #N/A | U43: #N/A | V43: #N/A
A44: 41 | B44: 19.8 | C44: 19.4 | D44: #N/A | E44: 12.6 | F44: 10.8 | G44: #N/A | H44: 14.4 | I44: #N/A | J44: 18 | K44: 7.2 | L44: 10.8 | M44: #N/A | N44: 9 | O44: 27 | P44: #N/A | Q44: #N/A | R44: 18 | S44: #N/A | T44: 28.8 | U44: #N/A | V44: #N/A
A45: 42 | B45: #N/A | C45: 17.7 | D45: #N/A | E45: #N/A | F45: 12.6 | G45: 7.2 | H45: 12.6 | I45: 19.8 | J45: #N/A | K45: #N/A | L45: 10.8 | M45: #N/A | N45: 15 | O45: 10.8 | P45: 11.7 | Q45: 18 | R45: 25.2 | S45: 10.8 | T45: #N/A | U45: #N/A | V45: #N/A
A46: 43 | B46: #N/A | C46: 23.4 | D46: 11.7 | E46: #N/A | F46: #N/A | G46: 14.4 | H46: 14.4 | I46: #N/A | J46: 12.6 | K46: 12.6 | L46: 12.6 | M46: 10.8 | N46: 13.2 | O46: #N/A | P46: 27 | Q46: 14.4 | R46: #N/A | S46: #N/A | T46: 23.4 | U46: #N/A | V46: #N/A
A47: 44 | B47: 27 | C47: 9.9 | D47: 21.6 | E47: 23.8 | F47: 18 | G47: 8.1 | H47: 16.2 | I47: 16.2 | J47: #N/A | K47: #N/A | L47: 17.4 | M47: 16.2 | N47: #N/A | O47: #N/A | P47: 18.9 | Q47: 28.8 | R47: #N/A | S47: 23.4 | T47: 23.4 | U47: 27 | V47: #N/A
A48: 45 | B48: 27 | C48: 18 | D48: 23.4 | E48: 18 | F48: 9 | G48: 24.3 | H48: 18 | I48: 22.5 | J48: 21.6 | K48: 13.2 | L48: 16.2 | M48: #N/A | N48: 5.4 | O48: #N/A | P48: #N/A | Q48: 32.4 | R48: #N/A | S48: 16.2 | T48: #N/A | U48: #N/A | V48: #N/A
A49: 46 | B49: 18.6 | C49: 9 | D49: 27 | E49: 18 | F49: 18 | G49: 16.8 | H49: 19.8 | I49: #N/A | J49: 25.2 | K49: #N/A | L49: 18.5 | M49: #N/A | N49: #N/A | O49: #N/A | P49: #N/A | Q49: 19.8 | R49: 19.8 | S49: #N/A | T49: 27.9 | U49: #N/A | V49: #N/A
A50: 47 | B50: 21.6 | C50: #N/A | D50: 25.2 | E50: 61.2 | F50: 21.6 | G50: 21.6 | H50: 21.6 | I50: 21.6 | J50: 28.8 | K50: #N/A | L50: 19.8 | M50: #N/A | N50: 11.7 | O50: #N/A | P50: 16.2 | Q50: #N/A | R50: 16.2 | S50: 19.8 | T50: 43.2 | U50: #N/A | V50: #N/A
A51: 48 | B51: #N/A | C51: 15.3 | D51: 23.4 | E51: #N/A | F51: 23.4 | G51: 23.4 | H51: 17.1 | I51: 27 | J51: 14.4 | K51: 5.4 | L51: #N/A | M51: #N/A | N51: #N/A | O51: #N/A | P51: 26.1 | Q51: #N/A | R51: 19.8 | S51: 14.4 | T51: 32.4 | U51: #N/A | V51: #N/A
A52: 49 | B52: 27 | C52: 26.1 | D52: 26.4 | E52: 24.3 | F52: #N/A | G52: 14.4 | H52: 25.2 | I52: 25.2 | J52: 25.2 | K52: 23.4 | L52: 12.6 | M52: 10.8 | N52: #N/A | O52: 23.4 | P52: 23.4 | Q52: 23.4 | R52: #N/A | S52: 26.1 | T52: 32.4 | U52: #N/A | V52: #N/A
A53: 50 | B53: 32.4 | C53: 14.4 | D53: 25.2 | E53: #N/A | F53: 21.6 | G53: 25.2 | H53: #N/A | I53: 32.4 | J53: 9 | K53: 9 | L53: 19.8 | M53: #N/A | N53: 9.9 | O53: #N/A | P53: 27 | Q53: 36 | R53: 30.6 | S53: #N/A | T53: 39.6 | U53: #N/A | V53: #N/A
A54: 51 | B54: 27 | C54: 29.7 | D54: 32.4 | E54: #N/A | F54: #N/A | G54: #N/A | H54: 27 | I54: 28.8 | J54: 21.6 | K54: 28.8 | L54: 9 | M54: #N/A | N54: 16.2 | O54: 27 | P54: #N/A | Q54: #N/A | R54: 23.4 | S54: #N/A | T54: #N/A | U54: #N/A | V54: #N/A
A55: 52 | B55: #N/A | C55: 28.8 | D55: 28.8 | E55: #N/A | F55: 30.6 | G55: #N/A | H55: #N/A | I55: 9 | J55: #N/A | K55: 7.2 | L55: #N/A | M55: 29.7 | N55: 3.6 | O55: #N/A | P55: 28.2 | Q55: 39.6 | R55: 31.5 | S55: 28.8 | T55: #N/A | U55: #N/A | V55: #N/A
A56: 53 | B56: 27 | C56: 25.8 | D56: 28.8 | E56: 28.8 | F56: 25.8 | G56: 17.1 | H56: 24.3 | I56: #N/A | J56: 20.7 | K56: 27 | L56: 27.6 | M56: #N/A | N56: 5.4 | O56: 29.4 | P56: 23.4 | Q56: 31.2 | R56: 25.2 | S56: #N/A | T56: #N/A | U56: #N/A | V56: #N/A
A57: 54 | B57: 24.8 | C57: 24 | D57: 18 | E57: 29.7 | F57: 25.2 | G57: 24.3 | H57: 28.8 | I57: #N/A | J57: 24 | K57: 27 | L57: #N/A | M57: 29.7 | N57: 28.8 | O57: 27 | P57: 32.4 | Q57: 34.2 | R57: 28.8 | S57: 30.6 | T57: #N/A | U57: #N/A | V57: #N/A
A58: 55 | B58: 14.3 | C58: 15.5 | D58: 9.9 | E58: 12.4 | F58: 10.9 | G58: 5.3 | H58: 11.8 | I58: 2.2 | J58: 25.2 | K58: 27.9 | L58: 16.2 | M58: 10.1 | N58: 18 | O58: 14.9 | P58: 17.4 | Q58: 10.8 | R58: 20.1 | S58: 17.6 | T58: 16.8 | U58: #N/A | V58: #N/A
A59: 56 | B59: 4.5 | C59: 9.6 | D59: 8.2 | E59: 9.4 | F59: 8.7 | G59: 7.9 | H59: 8.7 | I59: 9.3 | J59: 10.1 | K59: 9.1 | L59: 11.2 | M59: 5.4 | N59: 6.6 | O59: 8.4 | P59: 12 | Q59: 10.5 | R59: 8.3 | S59: 8.4 | T59: 19.2 | U59: #N/A | V59: #N/A
A60: 57 | B60: 1.8 | C60: 16.7 | D60: 3.6 | E60: 3.6 | F60: 28.8 | G60: 7.2 | H60: 3.6 | I60: 1.8 | J60: #N/A | K60: #N/A | L60: 13.5 | M60: 2.7 | N60: 1.8 | O60: #N/A | P60: 2.7 | Q60: #N/A | R60: 3.6 | S60: 32.4 | T60: 1.8 | U60: #N/A | V60: #N/A
A61: 58 | B61: 16.2 | C61: 15.3 | D61: 5.4 | E61: #N/A | F61: #N/A | G61: 5.4 | H61: 14.4 | I61: 10.8 | J61: 3.6 | K61: #N/A | L61: 4.2 | M61: #N/A | N61: #N/A | O61: 3.6 | P61: 16.2 | Q61: 3.6 | R61: 5.4 | S61: 14.4 | T61: 32.4 | U61: #N/A | V61: #N/A
A62: 59 | B62: 30.6 | C62: #N/A | D62: 16.2 | E62: #N/A | F62: 5.4 | G62: 7.2 | H62: 6 | I62: 5.4 | J62: 5.4 | K62: 9.9 | L62: 6 | M62: #N/A | N62: 5.4 | O62: #N/A | P62: 5.9 | Q62: 18 | R62: 7.2 | S62: 28.8 | T62: #N/A | U62: #N/A | V62: #N/A
A63: 60 | B63: 25.2 | C63: 8.1 | D63: 15 | E63: #N/A | F63: 15.6 | G63: #N/A | H63: #N/A | I63: 8.1 | J63: 7.2 | K63: 7.2 | L63: #N/A | M63: 9 | N63: 16.2 | O63: 7.2 | P63: 7.2 | Q63: #N/A | R63: 7.2 | S63: #N/A | T63: #N/A | U63: #N/A | V63: #N/A
A64: 61 | B64: 28.8 | C64: #N/A | D64: 9 | E64: 10.8 | F64: 10.8 | G64: 10.8 | H64: 10.8 | I64: 10.8 | J64: #N/A | K64: #N/A | L64: 9 | M64: #N/A | N64: #N/A | O64: 10.8 | P64: #N/A | Q64: 30.6 | R64: 9 | S64: #N/A | T64: #N/A | U64: 30.6 | V64: #N/A
A65: 62 | B65: 10.8 | C65: 13.2 | D65: #N/A | E65: 12.6 | F65: 25.2 | G65: #N/A | H65: 12.6 | I65: #N/A | J65: 10.8 | K65: 10.8 | L65: #N/A | M65: 9 | N65: 9 | O65: 10.8 | P65: #N/A | Q65: #N/A | R65: 10.8 | S65: 10.8 | T65: 28.8 | U65: #N/A | V65: #N/A
A66: 63 | B66: #N/A | C66: #N/A | D66: 16.7 | E66: 28.8 | F66: 14.4 | G66: #N/A | H66: 21.6 | I66: #N/A | J66: #N/A | K66: 12.6 | L66: 18 | M66: 12.6 | N66: 1.8 | O66: #N/A | P66: 12.6 | Q66: 12.6 | R66: 30.6 | S66: #N/A | T66: 30.6 | U66: #N/A | V66: #N/A
A67: 64 | B67: 12.6 | C67: #N/A | D67: 16.2 | E67: #N/A | F67: 16.2 | G67: #N/A | H67: 16.2 | I67: 16.2 | J67: 14.4 | K67: 14.4 | L67: 15 | M67: 14.4 | N67: 2.7 | O67: #N/A | P67: 16.2 | Q67: 14.4 | R67: 15.8 | S67: 14.4 | T67: #N/A | U67: #N/A | V67: #N/A
A68: 65 | B68: 23.4 | C68: 18.9 | D68: 17.1 | E68: 18 | F68: 16.2 | G68: 18 | H68: 18.9 | I68: 16.2 | J68: 18.9 | K68: #N/A | L68: 13.2 | M68: #N/A | N68: #N/A | O68: 18 | P68: 16.2 | Q68: 18 | R68: #N/A | S68: 18 | T68: 30.6 | U68: #N/A | V68: #N/A
A69: 66 | B69: 23.4 | C69: 18.9 | D69: #N/A | E69: 18 | F69: 15.3 | G69: 19.2 | H69: 18.9 | I69: 19.8 | J69: 18.9 | K69: #N/A | L69: 18 | M69: #N/A | N69: 18 | O69: #N/A | P69: 18 | Q69: #N/A | R69: 18 | S69: 19.8 | T69: #N/A | U69: #N/A | V69: #N/A
A70: 67 | B70: 30.6 | C70: #N/A | D70: 19.8 | E70: 21.6 | F70: #N/A | G70: 21.6 | H70: 18 | I70: 18 | J70: #N/A | K70: 19.8 | L70: 16.2 | M70: 18 | N70: #N/A | O70: #N/A | P70: #N/A | Q70: #N/A | R70: #N/A | S70: 22.2 | T70: 21.6 | U70: #N/A | V70: #N/A
A71: 68 | B71: 23.4 | C71: 23.4 | D71: 23.4 | E71: 23.4 | F71: 23.4 | G71: 12.6 | H71: 23.4 | I71: #N/A | J71: #N/A | K71: 15.3 | L71: 11.7 | M71: #N/A | N71: 7.2 | O71: 21.6 | P71: 21.6 | Q71: #N/A | R71: #N/A | S71: #N/A | T71: 21.6 | U71: 21.6 | V71: #N/A
A72: 69 | B72: 28.1 | C72: 27 | D72: 23.4 | E72: #N/A | F72: 25.2 | G72: #N/A | H72: 12.6 | I72: 23.4 | J72: #N/A | K72: #N/A | L72: #N/A | M72: 23.4 | N72: 7.2 | O72: #N/A | P72: #N/A | Q72: #N/A | R72: 23.4 | S72: #N/A | T72: 25.2 | U72: #N/A | V72: #N/A
A73: 70 | B73: 27 | C73: 23.4 | D73: 25.2 | E73: 27 | F73: #N/A | G73: 27 | H73: 24.6 | I73: 23.4 | J73: 25.2 | K73: 25.2 | L73: #N/A | M73: 27 | N73: #N/A | O73: #N/A | P73: 22.5 | Q73: 26.1 | R73: #N/A | S73: #N/A | T73: #N/A | U73: #N/A | V73: #N/A
A74: 71 | B74: 27.9 | C74: 25.2 | D74: 28.8 | E74: 28.8 | F74: 14.4 | G74: 26.1 | H74: 25.2 | I74: #N/A | J74: #N/A | K74: #N/A | L74: #N/A | M74: #N/A | N74: 27 | O74: 27 | P74: 23.4 | Q74: 28.8 | R74: 27 | S74: #N/A | T74: #N/A | U74: #N/A | V74: #N/A
A75: 72 | B75: #N/A | C75: 25.2 | D75: 24.3 | E75: 30.6 | F75: 28.8 | G75: 28.8 | H75: #N/A | I75: #N/A | J75: 23.4 | K75: #N/A | L75: 24.8 | M75: #N/A | N75: 14.4 | O75: 25.2 | P75: 27 | Q75: #N/A | R75: #N/A | S75: 14.4 | T75: 39.6 | U75: #N/A | V75: #N/A
A76: 73 | B76: #N/A | C76: 25.8 | D76: 30 | E76: 30.6 | F76: #N/A | G76: 28.8 | H76: 34.2 | I76: 30.6 | J76: #N/A | K76: #N/A | L76: #N/A | M76: #N/A | N76: 30.6 | O76: 23.4 | P76: 27 | Q76: 30.6 | R76: #N/A | S76: #N/A | T76: 30.6 | U76: #N/A | V76: #N/A
A77: 74 | B77: 27 | C77: 30.6 | D77: 18.6 | E77: #N/A | F77: 25.8 | G77: 28.8 | H77: 24.6 | I77: #N/A | J77: 16.2 | K77: 25.2 | L77: 29.7 | M77: #N/A | N77: 19.8 | O77: 32.4 | P77: 30.6 | Q77: 29.7 | R77: 29.7 | S77: 30.6 | T77: #N/A | U77: #N/A | V77: #N/A
A78: 75 | B78: #N/A | C78: 28.2 | D78: 19.2 | E78: 24.8 | F78: 25.2 | G78: 15.3 | H78: 22.3 | I78: #N/A | J78: 30.6 | K78: 15.6 | L78: 25.2 | M78: #N/A | N78: 10.8 | O78: #N/A | P78: 28.8 | Q78: #N/A | R78: 19.8 | S78: 32.4 | T78: #N/A | U78: #N/A | V78: #N/A
A79: 76 | B79: #N/A | C79: 31.5 | D79: 1.8 | E79: #N/A | F79: #N/A | G79: #N/A | H79: 28.8 | I79: 21.6 | J79: 18 | K79: 16.2 | L79: 19.2 | M79: 28.8 | N79: 37.8 | O79: 36 | P79: 26.4 | Q79: 36.9 | R79: 30.6 | S79: #N/A | T79: 32.4 | U79: #N/A | V79: #N/A
A80: 77 | B80: 23.4 | C80: 27 | D80: 30.6 | E80: 27.9 | F80: 28.8 | G80: 18 | H80: #N/A | I80: #N/A | J80: 15 | K80: #N/A | L80: 23.9 | M80: 23.4 | N80: #N/A | O80: 29.7 | P80: #N/A | Q80: 37.8 | R80: #N/A | S80: 32.4 | T80: #N/A | U80: 28.8 | V80: #N/A
A81: 78 | B81: 30.6 | C81: 22.5 | D81: 22.5 | E81: #N/A | F81: 25.8 | G81: #N/A | H81: 19.8 | I81: 28.8 | J81: 31.5 | K81: 28.8 | L81: #N/A | M81: 19.8 | N81: #N/A | O81: #N/A | P81: #N/A | Q81: 30.6 | R81: #N/A | S81: 36 | T81: 36 | U81: #N/A | V81: #N/A
A82: 79 | B82: #N/A | C82: #N/A | D82: 31.5 | E82: 28.8 | F82: 21.6 | G82: 23.4 | H82: #N/A | I82: #N/A | J82: 25.2 | K82: 23.4 | L82: 27 | M82: 29.7 | N82: 23.4 | O82: #N/A | P82: 33 | Q82: #N/A | R82: 27 | S82: 36 | T82: #N/A | U82: #N/A | V82: #N/A
A83: 80 | B83: 27 | C83: 29.7 | D83: #N/A | E83: #N/A | F83: 25.2 | G83: #N/A | H83: #N/A | I83: 28.8 | J83: 24 | K83: 37.8 | L83: #N/A | M83: #N/A | N83: 36 | O83: #N/A | P83: #N/A | Q83: #N/A | R83: 34.2 | S83: #N/A | T83: 21.6 | U83: #N/A | V83: #N/A
A84: 81 | B84: 32.4 | C84: 26.1 | D84: 24.3 | E84: #N/A | F84: 18 | G84: 27 | H84: 25.2 | I84: 27 | J84: 27 | K84: 30.6 | L84: 27.9 | M84: #N/A | N84: #N/A | O84: 34.2 | P84: #N/A | Q84: #N/A | R84: 32.4 | S84: 34.2 | T84: 34.2 | U84: #N/A | V84: #N/A
A85: 82 | B85: 30.6 | C85: 27 | D85: #N/A | E85: #N/A | F85: 34.2 | G85: 27.9 | H85: 30.6 | I85: 23.4 | J85: #N/A | K85: 24.3 | L85: #N/A | M85: #N/A | N85: 12.6 | O85: #N/A | P85: 25.2 | Q85: 34.2 | R85: #N/A | S85: #N/A | T85: 34.2 | U85: #N/A | V85: #N/A
A86: 83 | B86: 25.2 | C86: 23.4 | D86: 18 | E86: 27.9 | F86: #N/A | G86: #N/A | H86: 23.4 | I86: 32.4 | J86: 23.4 | K86: #N/A | L86: 30 | M86: #N/A | N86: #N/A | O86: 32.4 | P86: #N/A | Q86: #N/A | R86: #N/A | S86: #N/A | T86: #N/A | U86: #N/A | V86: #N/A
A87: 84 | B87: 27.9 | C87: 27 | D87: 20.7 | E87: 27.5 | F87: 23.4 | G87: 16.2 | H87: 21.6 | I87: #N/A | J87: 25.2 | K87: 25.2 | L87: #N/A | M87: 26.1 | N87: 32.4 | O87: #N/A | P87: #N/A | Q87: #N/A | R87: 27 | S87: 31.5 | T87: 34.2 | U87: #N/A | V87: #N/A
A88: 85 | B88: 30.2 | C88: 25.2 | D88: 36 | E88: #N/A | F88: 37.8 | G88: 24.3 | H88: 26.4 | I88: #N/A | J88: #N/A | K88: #N/A | L88: #N/A | M88: 14.4 | N88: #N/A | O88: 30.6 | P88: 23.4 | Q88: #N/A | R88: #N/A | S88: #N/A | T88: 28.8 | U88: #N/A | V88: #N/A
A89: 86 | B89: #N/A | C89: 24.3 | D89: #N/A | E89: #N/A | F89: 25.8 | G89: 28.8 | H89: 28.8 | I89: 34.2 | J89: #N/A | K89: #N/A | L89: #N/A | M89: 12.6 | N89: 23.4 | O89: #N/A | P89: #N/A | Q89: 35.4 | R89: #N/A | S89: 14.4 | T89: #N/A | U89: 32.4 | V89: #N/A
A90: 87 | B90: 33 | C90: 27 | D90: 27.9 | E90: #N/A | F90: #N/A | G90: 21.6 | H90: 27 | I90: #N/A | J90: #N/A | K90: 36 | L90: 39.6 | M90: #N/A | N90: #N/A | O90: #N/A | P90: 30.6 | Q90: #N/A | R90: 31.5 | S90: 24.3 | T90: #N/A | U90: #N/A | V90: #N/A
A91: 88 | B91: 34.2 | C91: #N/A | D91: #N/A | E91: #N/A | F91: #N/A | G91: #N/A | H91: 33.3 | I91: 21.6 | J91: 19.8 | K91: #N/A | L91: 21.6 | M91: #N/A | N91: 30.6 | O91: 28.8 | P91: 32.4 | Q91: #N/A | R91: 39.6 | S91: 37.8 | T91: #N/A | U91: #N/A | V91: #N/A
A92: 89 | B92: 36 | C92: #N/A | D92: #N/A | E92: #N/A | F92: 19.8 | G92: 30.6 | H92: 25.2 | I92: 14.4 | J92: 34.2 | K92: #N/A | L92: #N/A | M92: 19.8 | N92: 19.8 | O92: 35.1 | P92: 32.4 | Q92: 27 | R92: 16.2 | S92: 41.4 | T92: #N/A | U92: #N/A | V92: #N/A
A93: 90 | B93: 31.5 | C93: 30.6 | D93: 31.5 | E93: 30.6 | F93: 23.4 | G93: 28.8 | H93: #N/A | I93: 30.6 | J93: 25.2 | K93: 19.8 | L93: 25.6 | M93: #N/A | N93: #N/A | O93: #N/A | P93: #N/A | Q93: 36 | R93: #N/A | S93: #N/A | T93: #N/A | U93: #N/A | V93: #N/A
A94: 91 | B94: #N/A | C94: 29.4 | D94: 30.6 | E94: #N/A | F94: 28.8 | G94: 36 | H94: 30.6 | I94: #N/A | J94: 28.8 | K94: #N/A | L94: #N/A | M94: #N/A | N94: 30.6 | O94: #N/A | P94: #N/A | Q94: 27 | R94: 30.6 | S94: #N/A | T94: 29.7 | U94: #N/A | V94: #N/A
A95: 92 | B95: #N/A | C95: 25.2 | D95: 24.3 | E95: 37.8 | F95: 25.2 | G95: 27 | H95: 32.4 | I95: #N/A | J95: 27 | K95: 25.2 | L95: 33.3 | M95: 26.1 | N95: #N/A | O95: #N/A | P95: 32.4 | Q95: 29.7 | R95: 37.8 | S95: #N/A | T95: 34.2 | U95: #N/A | V95: #N/A
A96: 93 | B96: 34.2 | C96: 33.3 | D96: 27 | E96: 28.8 | F96: #N/A | G96: #N/A | H96: 29.7 | I96: #N/A | J96: 28.8 | K96: #N/A | L96: 37.8 | M96: #N/A | N96: 37.8 | O96: #N/A | P96: 29.7 | Q96: 39.6 | R96: 30.6 | S96: 32.4 | T96: 41.4 | U96: 28.8 | V96: #N/A
A97: 94 | B97: 25.2 | C97: 31.5 | D97: 28.8 | E97: 37.8 | F97: #N/A | G97: 30.6 | H97: 27.9 | I97: 28.8 | J97: 22.5 | K97: 32.4 | L97: 36 | M97: 14.4 | N97: #N/A | O97: 36 | P97: 34.2 | Q97: 41.4 | R97: #N/A | S97: 36 | T97: #N/A | U97: #N/A | V97: #N/A
A98: 95 | B98: 30.6 | C98: 36 | D98: 23 | E98: 36 | F98: 28.8 | G98: #N/A | H98: #N/A | I98: 30.6 | J98: 32.4 | K98: #N/A | L98: 32 | M98: #N/A | N98: 10.8 | O98: 36 | P98: 34.2 | Q98: 36 | R98: #N/A | S98: 16.2 | T98: #N/A | U98: #N/A | V98: #N/A
A99: 96 | B99: 28.8 | C99: 26.1 | D99: 21.6 | E99: 36.6 | F99: #N/A | G99: 30.6 | H99: #N/A | I99: #N/A | J99: 32.4 | K99: 30.6 | L99: 14.4 | M99: #N/A | N99: 30.6 | O99: #N/A | P99: 36 | Q99: 32.4 | R99: #N/A | S99: 34.2 | T99: 37.8 | U99: #N/A | V99: #N/A
A100: 97 | B100: 24.3 | C100: 26.1 | D100: 32.4 | E100: 23.4 | F100: #N/A | G100: 22.2 | H100: 30.6 | I100: 34.2 | J100: 30.6 | K100: 37.8 | L100: 37.8 | M100: #N/A | N100: 37.8 | O100: 36 | P100: 27 | Q100: 12.6 | R100: 31.2 | S100: 32.4 | T100: #N/A | U100: #N/A | V100: #N/A
...

Sheet Data2
A1: 501 Queen Eastbound November 27-28-29 2019 Average Speed
B2: 600 | C2: 700 | D2: 800 | E2: 900 | F2: 1000 | G2: 1100 | H2: 1200 | I2: 1300 | J2: 1400 | K2: 1500 | L2: 1600 | M2: 1700 | N2: 1800 | O2: 1900 | P2: 2000 | Q2: 2100 | R2: 2200 | S2: 2300 | T2: 2400 | U2: 2500 | V2: 2600
A3: 0 | B3: 5.4 | C3: 3.9 | D3: 2.1 | E3: 10.2 | F3: 13.5 | G3: 14.4 | H3: 7.8 | I3: 4.2 | J3: 2.7 | K3: 2.5 | L3: 5 | M3: 2.8 | N3: 7.4 | O3: 8.6 | P3: 5.8 | Q3: 1.3 | R3: 8.9 | S3: 3.4 | T3: 8 | U3: 15.8 | V3: 9
A4: 1 | B4: 0.2 | C4: 1.4 | D4: 2.2 | E4: 0.4 | F4: 0.6 | G4: 0.8 | H4: 0.5 | I4: 0.2 | J4: 0.5 | K4: 0.3 | L4: 0.2 | M4: 0.3 | N4: 0.3 | O4: 0.3 | P4: 0.6 | Q4: 0.3 | R4: 0.6 | S4: 0.5 | T4: 0.8 | U4: 0.4 | V4: 0.2
A5: 2 | B5: 0.1 | C5: 0.3 | D5: 0.4 | E5: 0.4 | F5: 0.3 | G5: 0.1 | H5: 0.2 | I5: 0.1 | J5: 0.2 | K5: 0.2 | L5: 0.2 | M5: 0.2 | N5: 0.6 | O5: 0.2 | P5: 0.2 | Q5: 0.2 | R5: 0.2 | S5: 0.2 | T5: 0.4 | U5: 0.5 | V5: 0.1
A6: 3 | B6: 0.1 | C6: 0.7 | D6: 0.9 | E6: 0.4 | F6: 0.4 | G6: 5.4 | H6: 0.3 | I6: 0.2 | J6: 0.3 | K6: 0.2 | L6: 0.1 | M6: 0.4 | N6: 0.3 | O6: 0.2 | P6: 0.2 | Q6: 0.6 | R6: 0.2 | S6: 0.2 | T6: 0.2 | U6: 0.2 | V6: 0.2
A7: 4 | B7: 0.3 | C7: 2.3 | D7: 3.6 | E7: 2.5 | F7: 1.3 | G7: 4.1 | H7: 0.6 | I7: 1.8 | J7: 3.6 | K7: 3.6 | L7: 2.6 | M7: 0.5 | N7: 1.6 | O7: 0.9 | P7: 1 | Q7: 0.8 | R7: 0.3 | S7: 0.2 | T7: 0.4 | U7: 0 | V7: 0.3
A8: 5 | B8: 3.6 | C8: 0.8 | D8: 3 | E8: 0.9 | F8: 2.7 | G8: 0.7 | H8: 1.1 | I8: 1.8 | J8: 3.6 | K8: 0.5 | L8: 0.9 | M8: 1.5 | N8: 1.4 | O8: 3 | P8: 0.9 | Q8: 0.8 | R8: 0.7 | S8: 0.4 | T8: 0.6 | U8: 7.2 | V8: 0.4
A9: 6 | B9: 0.2 | C9: 3.9 | D9: 4.5 | E9: 5.4 | F9: 4.6 | G9: 0.5 | H9: 3.6 | I9: 9 | J9: 7.2 | K9: 1.9 | L9: 1.6 | M9: 3.7 | N9: 2.3 | O9: 4.2 | P9: 1.3 | Q9: 1.8 | R9: 3 | S9: 1.1 | T9: 8.4 | U9: 0.5 | V9: 1
A10: 7 | B10: 0.6 | C10: 1.8 | D10: #N/A | E10: 4.2 | F10: 3.6 | G10: 2.7 | H10: 4.8 | I10: 0.5 | J10: #N/A | K10: 0.5 | L10: 0.7 | M10: 1.6 | N10: 0.7 | O10: 4.4 | P10: 5.4 | Q10: 0.8 | R10: 0.4 | S10: 1.1 | T10: 0.5 | U10: #N/A | V10: 9
A11: 8 | B11: 1.4 | C11: 2.5 | D11: #N/A | E11: 2.1 | F11: 3.6 | G11: 11.7 | H11: 0.5 | I11: #N/A | J11: 10.8 | K11: 0.7 | L11: 0.1 | M11: 0.8 | N11: 0.5 | O11: 2.5 | P11: 1.4 | Q11: 3.6 | R11: 2.9 | S11: 0 | T11: 0.4 | U11: 10.8 | V11: #N/A
A12: 9 | B12: 5.4 | C12: 4.5 | D12: 14.4 | E12: 7.8 | F12: 1 | G12: 16.2 | H12: 6.3 | I12: #N/A | J12: 0 | K12: 4.4 | L12: 1.8 | M12: 0.6 | N12: 1 | O12: 6.3 | P12: 0.4 | Q12: 1.8 | R12: 0.2 | S12: 4.5 | T12: 0.8 | U12: #N/A | V12: 1.8
A13: 10 | B13: 0.5 | C13: 4.1 | D13: 11.4 | E13: 13.3 | F13: 10.8 | G13: 10.8 | H13: 10.8 | I13: 10.8 | J13: 6.8 | K13: 0.7 | L13: 6.6 | M13: 5.4 | N13: 6.4 | O13: 8.4 | P13: 3.5 | Q13: 7.7 | R13: 7.9 | S13: 11.3 | T13: 8 | U13: 9.9 | V13: 9
A14: 11 | B14: 5.4 | C14: 1.2 | D14: 2.4 | E14: 2.5 | F14: 6.3 | G14: 3.9 | H14: 0.6 | I14: 7.2 | J14: 2.3 | K14: 1.4 | L14: 6 | M14: 1.5 | N14: 0.4 | O14: 1 | P14: 1 | Q14: 0.4 | R14: 1.5 | S14: 4.3 | T14: 0.8 | U14: 2.6 | V14: #N/A
A15: 12 | B15: 2.7 | C15: 0.3 | D15: 0.8 | E15: 2.6 | F15: 2 | G15: 0.7 | H15: 0.1 | I15: 0.3 | J15: 9.9 | K15: 1.4 | L15: 0.3 | M15: 0.4 | N15: 2.1 | O15: 0.7 | P15: 2.6 | Q15: 1.5 | R15: 1.9 | S15: 0.2 | T15: 0.4 | U15: #N/A | V15: #N/A
A16: 13 | B16: #N/A | C16: 1.2 | D16: 0.3 | E16: 3.6 | F16: 1 | G16: #N/A | H16: 12.6 | I16: 18 | J16: 5.4 | K16: 0.2 | L16: 3.6 | M16: 0.4 | N16: 6 | O16: 0.6 | P16: 1 | Q16: 0.7 | R16: 0.6 | S16: 0.2 | T16: 0.8 | U16: #N/A | V16: #N/A
A17: 14 | B17: 0.2 | C17: 1.3 | D17: 8.1 | E17: #N/A | F17: 1.8 | G17: #N/A | H17: #N/A | I17: #N/A | J17: #N/A | K17: 4.1 | L17: 1.9 | M17: 2.2 | N17: 2.3 | O17: 0.6 | P17: 4.2 | Q17: 0.6 | R17: 3.6 | S17: #N/A | T17: #N/A | U17: #N/A | V17: #N/A
A18: 15 | B18: 0.2 | C18: 2.8 | D18: 2.7 | E18: 16.2 | F18: #N/A | G18: #N/A | H18: 1.8 | I18: #N/A | J18: #N/A | K18: 9 | L18: #N/A | M18: 1.2 | N18: #N/A | O18: 3 | P18: 0.9 | Q18: 0.5 | R18: 0.3 | S18: #N/A | T18: #N/A | U18: #N/A | V18: #N/A
A19: 16 | B19: 7.7 | C19: 0.9 | D19: 3 | E19: 10.8 | F19: 1.2 | G19: 12.6 | H19: #N/A | I19: #N/A | J19: #N/A | K19: 9.6 | L19: 0.7 | M19: 1.8 | N19: 9 | O19: 1.7 | P19: 9.5 | Q19: 2.7 | R19: 11.9 | S19: 14.4 | T19: 1.5 | U19: 23.4 | V19: #N/A
A20: 17 | B20: 9 | C20: 4.8 | D20: 4.7 | E20: 10.8 | F20: 18.9 | G20: #N/A | H20: 10.8 | I20: #N/A | J20: 9 | K20: 0.9 | L20: 28.8 | M20: 1.5 | N20: 1.1 | O20: 1.6 | P20: 5.7 | Q20: 4.9 | R20: 12.6 | S20: 13.2 | T20: 6.6 | U20: 19.8 | V20: 19.8
A21: 18 | B21: 3.6 | C21: 6.3 | D21: 4.4 | E21: 2.7 | F21: 17.1 | G21: #N/A | H21: 14.4 | I21: #N/A | J21: 23.4 | K21: #N/A | L21: 12.6 | M21: 0.9 | N21: 0.5 | O21: 0.7 | P21: 3.6 | Q21: 2.7 | R21: 0.2 | S21: #N/A | T21: 1.2 | U21: #N/A | V21: #N/A
A22: 19 | B22: 0.2 | C22: 3.6 | D22: 6.8 | E22: 10.8 | F22: 5.4 | G22: 14.4 | H22: 14.4 | I22: 23.4 | J22: #N/A | K22: 2.4 | L22: 23.4 | M22: 8.6 | N22: 9 | O22: 10.8 | P22: 1.2 | Q22: 7 | R22: 9.9 | S22: 12.6 | T22: 1.2 | U22: #N/A | V22: #N/A
A23: 20 | B23: 2.7 | C23: 8.4 | D23: 17.1 | E23: 20.7 | F23: #N/A | G23: #N/A | H23: #N/A | I23: #N/A | J23: #N/A | K23: 3.6 | L23: 0.7 | M23: 0.6 | N23: 10.8 | O23: 4.5 | P23: 1.2 | Q23: 7.7 | R23: 19.2 | S23: 20.7 | T23: 10.8 | U23: #N/A | V23: 25.2
A24: 21 | B24: 6.3 | C24: 0.9 | D24: 3.6 | E24: 16.2 | F24: 1.7 | G24: 19.8 | H24: 19.8 | I24: 19.8 | J24: #N/A | K24: #N/A | L24: 27 | M24: 7.2 | N24: 1 | O24: 5.8 | P24: 17.1 | Q24: 2.1 | R24: 7.8 | S24: #N/A | T24: 0.3 | U24: #N/A | V24: #N/A
A25: 22 | B25: #N/A | C25: 5.4 | D25: #N/A | E25: 23.4 | F25: 11 | G25: 18 | H25: #N/A | I25: #N/A | J25: #N/A | K25: 9 | L25: 14.4 | M25: 19.8 | N25: 19.8 | O25: 9.9 | P25: 1.8 | Q25: 1.8 | R25: 28.8 | S25: #N/A | T25: #N/A | U25: #N/A | V25: #N/A
A26: 23 | B26: 9 | C26: 6.3 | D26: #N/A | E26: 18 | F26: 23.4 | G26: 23.4 | H26: #N/A | I26: #N/A | J26: 21.6 | K26: 19.8 | L26: 9 | M26: 18.9 | N26: 21 | O26: #N/A | P26: 13.2 | Q26: 1.5 | R26: 16.2 | S26: 23.4 | T26: 34.2 | U26: 23.4 | V26: #N/A
A27: 24 | B27: 1.8 | C27: 18 | D27: #N/A | E27: 26.1 | F27: 10.4 | G27: 14.4 | H27: #N/A | I27: 19.8 | J27: #N/A | K27: 23.4 | L27: 0.1 | M27: 0.2 | N27: 10.1 | O27: 25.2 | P27: 8.1 | Q27: 8 | R27: 11.4 | S27: #N/A | T27: #N/A | U27: 32.4 | V27: #N/A
A28: 25 | B28: 1.8 | C28: #N/A | D28: #N/A | E28: 23.4 | F28: 17.4 | G28: 23.4 | H28: 26.1 | I28: #N/A | J28: #N/A | K28: 25.2 | L28: 19.8 | M28: 2.8 | N28: 14 | O28: 21.6 | P28: 17 | Q28: 16.8 | R28: 7.2 | S28: 25.2 | T28: 19.8 | U28: #N/A | V28: 27
A29: 26 | B29: #N/A | C29: 11.3 | D29: 14.4 | E29: 28.8 | F29: #N/A | G29: 27 | H29: #N/A | I29: #N/A | J29: 22.8 | K29: #N/A | L29: 5.4 | M29: 13.1 | N29: 23.4 | O29: 23 | P29: #N/A | Q29: 19.4 | R29: 20.5 | S29: 16.2 | T29: 23.4 | U29: 23.4 | V29: 30.6
A30: 27 | B30: 2.4 | C30: 0.6 | D30: #N/A | E30: #N/A | F30: 29.7 | G30: #N/A | H30: 18 | I30: #N/A | J30: #N/A | K30: 18 | L30: #N/A | M30: #N/A | N30: #N/A | O30: 17.1 | P30: #N/A | Q30: 21.6 | R30: #N/A | S30: #N/A | T30: 28.8 | U30: #N/A | V30: #N/A
A31: 28 | B31: 1.8 | C31: 10.8 | D31: 19.8 | E31: #N/A | F31: 17.1 | G31: #N/A | H31: #N/A | I31: #N/A | J31: #N/A | K31: 22.2 | L31: #N/A | M31: 10.4 | N31: 28.8 | O31: 25.2 | P31: 5.4 | Q31: 2 | R31: #N/A | S31: 3.6 | T31: #N/A | U31: #N/A | V31: #N/A
A32: 29 | B32: 1.5 | C32: 13.2 | D32: 19.8 | E32: #N/A | F32: #N/A | G32: 18 | H32: 28.8 | I32: 32.4 | J32: #N/A | K32: #N/A | L32: 9 | M32: 22.5 | N32: 14 | O32: 19.2 | P32: #N/A | Q32: #N/A | R32: #N/A | S32: 23.4 | T32: #N/A | U32: #N/A | V32: #N/A
A33: 30 | B33: 19.8 | C33: 14.4 | D33: 23.4 | E33: 14.4 | F33: #N/A | G33: #N/A | H33: #N/A | I33: #N/A | J33: #N/A | K33: #N/A | L33: #N/A | M33: 13.2 | N33: 18 | O33: #N/A | P33: 19.8 | Q33: #N/A | R33: 25.2 | S33: 18 | T33: #N/A | U33: #N/A | V33: #N/A
A34: 31 | B34: #N/A | C34: 23.4 | D34: 32.4 | E34: 21.6 | F34: #N/A | G34: #N/A | H34: #N/A | I34: #N/A | J34: 34.2 | K34: 27 | L34: 10.8 | M34: 5.4 | N34: 11.7 | O34: 19.8 | P34: 19.8 | Q34: 12.6 | R34: #N/A | S34: #N/A | T34: #N/A | U34: #N/A | V34: #N/A
A35: 32 | B35: 7.9 | C35: 7.2 | D35: 25.2 | E35: 32.4 | F35: 27 | G35: #N/A | H35: #N/A | I35: #N/A | J35: #N/A | K35: #N/A | L35: 25.2 | M35: 28.8 | N35: 5.6 | O35: #N/A | P35: 30 | Q35: 2.4 | R35: 12.6 | S35: 23.4 | T35: #N/A | U35: #N/A | V35: #N/A
A36: 33 | B36: 2 | C36: #N/A | D36: 14.4 | E36: 21.6 | F36: 23.4 | G36: #N/A | H36: 22.5 | I36: #N/A | J36: 28.8 | K36: 33 | L36: 27.6 | M36: 27 | N36: 30.6 | O36: 6.9 | P36: 25.5 | Q36: 14.8 | R36: 25.2 | S36: 32 | T36: 15.3 | U36: 37.2 | V36: 41.4
A37: 34 | B37: 1.4 | C37: 14.4 | D37: 27 | E37: #N/A | F37: 30.6 | G37: 32.4 | H37: 12.6 | I37: #N/A | J37: 14.4 | K37: 18.6 | L37: 3.6 | M37: 16.2 | N37: 15.5 | O37: 18 | P37: #N/A | Q37: 23.4 | R37: 26.4 | S37: 43.2 | T37: 27 | U37: 30.6 | V37: 30.6
A38: 35 | B38: 0.4 | C38: 5.4 | D38: 14 | E38: 3.9 | F38: 14.2 | G38: #N/A | H38: 27 | I38: 24.6 | J38: 20.7 | K38: 9.9 | L38: 11.4 | M38: 11 | N38: 2.7 | O38: 4.7 | P38: 13.4 | Q38: 5.6 | R38: 2.8 | S38: 6.9 | T38: 27.9 | U38: 43.2 | V38: #N/A
A39: 36 | B39: #N/A | C39: 15.3 | D39: 30.6 | E39: 16 | F39: 24 | G39: 14.4 | H39: 1.8 | I39: #N/A | J39: 32.4 | K39: 5.4 | L39: 10.8 | M39: 1.8 | N39: 10.8 | O39: 15.3 | P39: 27 | Q39: 1.8 | R39: 1.8 | S39: #N/A | T39: #N/A | U39: #N/A | V39: #N/A
A40: 37 | B40: #N/A | C40: 12.6 | D40: 1.8 | E40: #N/A | F40: 9.9 | G40: #N/A | H40: #N/A | I40: #N/A | J40: 9 | K40: #N/A | L40: #N/A | M40: 18.6 | N40: 15.3 | O40: 15.8 | P40: #N/A | Q40: 2.7 | R40: 12.6 | S40: #N/A | T40: #N/A | U40: #N/A | V40: #N/A
A41: 38 | B41: 11.4 | C41: 9 | D41: 26.1 | E41: #N/A | F41: #N/A | G41: #N/A | H41: #N/A | I41: 5.4 | J41: #N/A | K41: 18.9 | L41: #N/A | M41: 9 | N41: 0.9 | O41: 0.5 | P41: 14.8 | Q41: 5.9 | R41: #N/A | S41: #N/A | T41: #N/A | U41: #N/A | V41: #N/A
A42: 39 | B42: 10.8 | C42: 12 | D42: #N/A | E42: #N/A | F42: #N/A | G42: 28.8 | H42: #N/A | I42: #N/A | J42: 37.8 | K42: 9 | L42: 14.4 | M42: 7.2 | N42: #N/A | O42: #N/A | P42: 11.7 | Q42: 3.6 | R42: #N/A | S42: #N/A | T42: 25.2 | U42: #N/A | V42: #N/A
A43: 40 | B43: 14.4 | C43: 15 | D43: 13.5 | E43: 21.6 | F43: 9 | G43: 7.2 | H43: #N/A | I43: #N/A | J43: #N/A | K43: 9 | L43: 9 | M43: 12 | N43: 13.9 | O43: 11.8 | P43: 24.3 | Q43: 23.4 | R43: 18.9 | S43: #N/A | T43: 24.3 | U43: 54 | V43: #N/A
A44: 41 | B44: 0.5 | C44: 27.6 | D44: 25.2 | E44: 43.2 | F44: 22 | G44: 27 | H44: 19.8 | I44: #N/A | J44: 27 | K44: 28.8 | L44: 10.8 | M44: 18 | N44: 9 | O44: 9.5 | P44: 24.3 | Q44: 15 | R44: 27 | S44: 14 | T44: 43.2 | U44: 27 | V44: 37.8
A45: 42 | B45: 10.8 | C45: 1.8 | D45: #N/A | E45: #N/A | F45: 14.4 | G45: 34.2 | H45: 27 | I45: #N/A | J45: #N/A | K45: 10.8 | L45: 15.3 | M45: 10.8 | N45: 2.7 | O45: #N/A | P45: 23.4 | Q45: 32.4 | R45: 34.2 | S45: #N/A | T45: 36.9 | U45: #N/A | V45: #N/A
A46: 43 | B46: 7.8 | C46: 21.6 | D46: #N/A | E46: 16.2 | F46: #N/A | G46: #N/A | H46: #N/A | I46: #N/A | J46: 14.4 | K46: 9 | L46: #N/A | M46: 12.6 | N46: 14.4 | O46: 28.8 | P46: 22.8 | Q46: 11.7 | R46: 41.4 | S46: #N/A | T46: 48.6 | U46: 48.6 | V46: #N/A
A47: 44 | B47: #N/A | C47: 15 | D47: 16.2 | E47: 16.2 | F47: 34.2 | G47: 31.5 | H47: 24.6 | I47: 16.2 | J47: 18 | K47: 28.8 | L47: 16.2 | M47: 23.4 | N47: 12.2 | O47: 18.9 | P47: 18 | Q47: 31.3 | R47: 22.8 | S47: 36.6 | T47: 25.2 | U47: 18.9 | V47: 34.2
A48: 45 | B48: 0.4 | C48: 2.8 | D48: 45 | E48: 16.2 | F48: 32.4 | G48: #N/A | H48: #N/A | I48: #N/A | J48: 14.4 | K48: #N/A | L48: #N/A | M48: 34.2 | N48: 19.8 | O48: 18 | P48: #N/A | Q48: 28.8 | R48: 10.8 | S48: 7.2 | T48: #N/A | U48: #N/A | V48: #N/A
A49: 46 | B49: 0.7 | C49: 9.9 | D49: 19.8 | E49: #N/A | F49: 25.2 | G49: 18 | H49: #N/A | I49: #N/A | J49: #N/A | K49: 19.8 | L49: #N/A | M49: #N/A | N49: 14.4 | O49: 19.8 | P49: #N/A | Q49: 18 | R49: 24.3 | S49: 36 | T49: #N/A | U49: #N/A | V49: #N/A
A50: 47 | B50: 9.9 | C50: 21.6 | D50: 23.4 | E50: #N/A | F50: 50.4 | G50: #N/A | H50: #N/A | I50: #N/A | J50: #N/A | K50: 14.4 | L50: #N/A | M50: 16.2 | N50: 18 | O50: 21.6 | P50: #N/A | Q50: 18.9 | R50: #N/A | S50: #N/A | T50: 39.6 | U50: #N/A | V50: 37.8
A51: 48 | B51: 16.2 | C51: 4.5 | D51: 19.8 | E51: #N/A | F51: 23.4 | G51: #N/A | H51: 27 | I51: #N/A | J51: #N/A | K51: #N/A | L51: #N/A | M51: #N/A | N51: 21.6 | O51: 22.1 | P51: 25.2 | Q51: #N/A | R51: 23.4 | S51: 6.3 | T51: 23.4 | U51: #N/A | V51: #N/A
A52: 49 | B52: 1.3 | C52: #N/A | D52: #N/A | E52: 28.8 | F52: 25.2 | G52: #N/A | H52: #N/A | I52: #N/A | J52: 25.2 | K52: 10.8 | L52: #N/A | M52: #N/A | N52: 16.2 | O52: #N/A | P52: #N/A | Q52: 28.8 | R52: #N/A | S52: 7.2 | T52: #N/A | U52: 45 | V52: #N/A
A53: 50 | B53: 16.2 | C53: 16.8 | D53: 34.2 | E53: #N/A | F53: 23.4 | G53: 24.3 | H53: 31.5 | I53: #N/A | J53: #N/A | K53: 20.7 | L53: 23.4 | M53: 27 | N53: 10.8 | O53: 25.2 | P53: #N/A | Q53: 16.8 | R53: #N/A | S53: #N/A | T53: 10.8 | U53: #N/A | V53: #N/A
A54: 51 | B54: #N/A | C54: #N/A | D54: #N/A | E54: 27 | F54: 27 | G54: #N/A | H54: #N/A | I54: 39.6 | J54: 28.8 | K54: 23.4 | L54: 27 | M54: #N/A | N54: 3.6 | O54: #N/A | P54: #N/A | Q54: #N/A | R54: 63 | S54: 32.4 | T54: 43.2 | U54: 28.8 | V54: #N/A
A55: 52 | B55: 21.6 | C55: 28.8 | D55: 14.4 | E55: 28.8 | F55: 30.6 | G55: 12.6 | H55: 14.4 | I55: #N/A | J55: 27 | K55: 17.1 | L55: #N/A | M55: 27.6 | N55: 18 | O55: #N/A | P55: 26.1 | Q55: #N/A | R55: 20.9 | S55: #N/A | T55: 29.7 | U55: 52.2 | V55: #N/A
A56: 53 | B56: 14.4 | C56: 25.2 | D56: 30.6 | E56: 29.4 | F56: 26.6 | G56: 13.2 | H56: 35.1 | I56: 32.4 | J56: 21.6 | K56: 21.6 | L56: #N/A | M56: 25.9 | N56: 18.7 | O56: 25.8 | P56: 27.2 | Q56: 28.4 | R56: 29.9 | S56: 37.4 | T56: 22.3 | U56: 30 | V56: 35.1
A57: 54 | B57: 9 | C57: 21.6 | D57: 28.8 | E57: 3 | F57: 30.6 | G57: 27 | H57: 21.6 | I57: #N/A | J57: 32.4 | K57: #N/A | L57: #N/A | M57: 16.7 | N57: 27.6 | O57: 27 | P57: 21.6 | Q57: 28.2 | R57: 14.4 | S57: 5.4 | T57: #N/A | U57: #N/A | V57: #N/A
A58: 55 | B58: 1 | C58: 13.3 | D58: 20.7 | E58: 15.5 | F58: 12.5 | G58: 3.6 | H58: 13.5 | I58: 11.7 | J58: 17.6 | K58: 13.7 | L58: 10.6 | M58: 5.6 | N58: 11.4 | O58: 15.6 | P58: 14.2 | Q58: 11.9 | R58: 17.6 | S58: 15.6 | T58: 11.3 | U58: 10.8 | V58: #N/A
A59: 56 | B59: 9 | C59: 8.1 | D59: 15.5 | E59: 4.4 | F59: 13.7 | G59: 10.8 | H59: 7.2 | I59: 32.4 | J59: 6.3 | K59: 4.8 | L59: 11.7 | M59: 16.2 | N59: 2.7 | O59: 7.2 | P59: #N/A | Q59: 24 | R59: 19.2 | S59: #N/A | T59: 9 | U59: #N/A | V59: #N/A
A60: 57 | B60: #N/A | C60: 17.1 | D60: 7.2 | E60: #N/A | F60: 1.8 | G60: #N/A | H60: 3.6 | I60: #N/A | J60: #N/A | K60: 1.8 | L60: 4.8 | M60: 17.1 | N60: 5.4 | O60: #N/A | P60: 21.6 | Q60: 23.4 | R60: #N/A | S60: #N/A | T60: #N/A | U60: 28.8 | V60: #N/A
A61: 58 | B61: 21.6 | C61: 3.6 | D61: 10.8 | E61: #N/A | F61: 12.6 | G61: 25.2 | H61: #N/A | I61: 3.6 | J61: 10.8 | K61: #N/A | L61: 28.8 | M61: 9.9 | N61: 5.4 | O61: 27 | P61: #N/A | Q61: 3.6 | R61: 3.6 | S61: #N/A | T61: #N/A | U61: #N/A | V61: #N/A
A62: 59 | B62: #N/A | C62: 24.3 | D62: #N/A | E62: #N/A | F62: 18.9 | G62: #N/A | H62: #N/A | I62: #N/A | J62: 18.9 | K62: #N/A | L62: #N/A | M62: 19.8 | N62: #N/A | O62: 25.2 | P62: #N/A | Q62: 6.3 | R62: #N/A | S62: #N/A | T62: #N/A | U62: #N/A | V62: #N/A
A63: 60 | B63: 9 | C63: #N/A | D63: 27 | E63: 27 | F63: 9 | G63: 12.6 | H63: 9.9 | I63: #N/A | J63: 9 | K63: 13.5 | L63: #N/A | M63: 8.7 | N63: 15.8 | O63: 14 | P63: 15.7 | Q63: 19.4 | R63: 27 | S63: 37.2 | T63: 23.4 | U63: 36 | V63: 28.8
A64: 61 | B64: #N/A | C64: 48.6 | D64: 25.2 | E64: 12.6 | F64: 20.7 | G64: 12.6 | H64: #N/A | I64: #N/A | J64: 10.8 | K64: 25.2 | L64: #N/A | M64: 18.5 | N64: 10.8 | O64: 24 | P64: 10.8 | Q64: 22.5 | R64: 10.8 | S64: #N/A | T64: 17.4 | U64: 10.8 | V64: #N/A
A65: 62 | B65: #N/A | C65: 21.6 | D65: #N/A | E65: 8.1 | F65: 14.4 | G65: 22.8 | H65: 9 | I65: #N/A | J65: #N/A | K65: 10.8 | L65: 7.2 | M65: 9 | N65: 21.6 | O65: 12.6 | P65: 34.2 | Q65: 10.8 | R65: 25.2 | S65: #N/A | T65: 41.4 | U65: #N/A | V65: #N/A
A66: 63 | B66: #N/A | C66: 14.4 | D66: #N/A | E66: 14.4 | F66: #N/A | G66: #N/A | H66: #N/A | I66: 14.4 | J66: #N/A | K66: #N/A | L66: #N/A | M66: 18 | N66: 20.9 | O66: 15.6 | P66: 25.2 | Q66: 28.8 | R66: 19.8 | S66: #N/A | T66: 54 | U66: 14.4 | V66: #N/A
A67: 64 | B67: 21.6 | C67: #N/A | D67: #N/A | E67: 16.2 | F67: 18 | G67: 10.8 | H67: 16.2 | I67: 16.2 | J67: #N/A | K67: 23.4 | L67: 16.2 | M67: 14.4 | N67: #N/A | O67: 13.8 | P67: 17.4 | Q67: 16.2 | R67: 15.3 | S67: #N/A | T67: #N/A | U67: 36 | V67: #N/A
A68: 65 | B68: 39.6 | C68: 16.2 | D68: 16.2 | E68: 22.5 | F68: #N/A | G68: #N/A | H68: #N/A | I68: #N/A | J68: 17.1 | K68: #N/A | L68: 14.4 | M68: 25.2 | N68: 13.2 | O68: 18 | P68: 26.1 | Q68: 17.4 | R68: 20.7 | S68: 28.8 | T68: #N/A | U68: 21.6 | V68: 37.8
A69: 66 | B69: 21.6 | C69: #N/A | D69: #N/A | E69: #N/A | F69: 21.6 | G69: 18 | H69: #N/A | I69: #N/A | J69: #N/A | K69: 16.8 | L69: 18.9 | M69: 19.8 | N69: 8.1 | O69: 19.8 | P69: 15.6 | Q69: 34.2 | R69: #N/A | S69: 42 | T69: #N/A | U69: #N/A | V69: #N/A
A70: 67 | B70: #N/A | C70: 36 | D70: 25.2 | E70: 20.7 | F70: #N/A | G70: 19.8 | H70: #N/A | I70: #N/A | J70: #N/A | K70: #N/A | L70: #N/A | M70: 21.6 | N70: 20.7 | O70: #N/A | P70: 19.8 | Q70: #N/A | R70: #N/A | S70: #N/A | T70: 21.6 | U70: #N/A | V70: #N/A
A71: 68 | B71: 28.8 | C71: 25.2 | D71: #N/A | E71: #N/A | F71: 19.8 | G71: #N/A | H71: 23.4 | I71: #N/A | J71: #N/A | K71: 21.2 | L71: #N/A | M71: #N/A | N71: 10.8 | O71: 34.2 | P71: 16.2 | Q71: 28.2 | R71: 21.6 | S71: #N/A | T71: 43.2 | U71: #N/A | V71: #N/A
A72: 69 | B72: 34.2 | C72: 24.3 | D72: #N/A | E72: 26.1 | F72: 19.8 | G72: #N/A | H72: #N/A | I72: #N/A | J72: 7.2 | K72: 19.8 | L72: 24.3 | M72: #N/A | N72: 24.3 | O72: 24.3 | P72: 27 | Q72: 18 | R72: 28.8 | S72: #N/A | T72: #N/A | U72: #N/A | V72: #N/A
A73: 70 | B73: 25.2 | C73: #N/A | D73: 27 | E73: 19.8 | F73: 21.6 | G73: #N/A | H73: 25.2 | I73: 34.2 | J73: 30.6 | K73: #N/A | L73: #N/A | M73: 28.2 | N73: 18.9 | O73: 26.1 | P73: 18 | Q73: 42.3 | R73: #N/A | S73: 28.8 | T73: 46.8 | U73: #N/A | V73: #N/A
A74: 71 | B74: 30.6 | C74: 29.7 | D74: 37.8 | E74: #N/A | F74: 28.8 | G74: #N/A | H74: #N/A | I74: #N/A | J74: #N/A | K74: #N/A | L74: 28.8 | M74: #N/A | N74: 26.1 | O74: #N/A | P74: 19.8 | Q74: 28.8 | R74: 32.4 | S74: #N/A | T74: 28.8 | U74: #N/A | V74: #N/A
A75: 72 | B75: #N/A | C75: 39.6 | D75: #N/A | E75: 30.6 | F75: 25.2 | G75: 19.8 | H75: #N/A | I75: #N/A | J75: 28.8 | K75: 21.6 | L75: #N/A | M75: 30.6 | N75: 19.8 | O75: #N/A | P75: 18.9 | Q75: 12.6 | R75: #N/A | S75: 38.4 | T75: 57.6 | U75: #N/A | V75: #N/A
A76: 73 | B76: #N/A | C76: 26.1 | D76: 27 | E76: 30.6 | F76: #N/A | G76: #N/A | H76: 27 | I76: #N/A | J76: 21.6 | K76: #N/A | L76: 28.8 | M76: #N/A | N76: 22.5 | O76: 27 | P76: #N/A | Q76: 27.9 | R76: #N/A | S76: 34.2 | T76: 28.8 | U76: 31.2 | V76: #N/A
A77: 74 | B77: 14.4 | C77: #N/A | D77: 31.8 | E77: 30.6 | F77: 34.2 | G77: #N/A | H77: 25.2 | I77: #N/A | J77: #N/A | K77: #N/A | L77: #N/A | M77: 25.2 | N77: 22.8 | O77: 27.6 | P77: 36 | Q77: 20.7 | R77: #N/A | S77: #N/A | T77: 57.6 | U77: #N/A | V77: 25.2
A78: 75 | B78: #N/A | C78: 32.4 | D78: 41.4 | E78: 27 | F78: 23.4 | G78: 19.8 | H78: #N/A | I78: 30.6 | J78: #N/A | K78: 12.6 | L78: #N/A | M78: 23 | N78: 18 | O78: 32.4 | P78: 18.5 | Q78: 28.8 | R78: 34.2 | S78: 37.8 | T78: 39.6 | U78: 19.8 | V78: 39.6
A79: 76 | B79: 30.6 | C79: 41.4 | D79: 30 | E79: 28.8 | F79: 26.4 | G79: #N/A | H79: #N/A | I79: #N/A | J79: #N/A | K79: 28.8 | L79: #N/A | M79: 24.6 | N79: 36 | O79: #N/A | P79: 37.8 | Q79: #N/A | R79: 28.1 | S79: 0.9 | T79: #N/A | U79: #N/A | V79: 41.4
A80: 77 | B80: #N/A | C80: 34.2 | D80: #N/A | E80: #N/A | F80: #N/A | G80: 27.6 | H80: 30.6 | I80: #N/A | J80: 32.4 | K80: #N/A | L80: 27 | M80: 35.1 | N80: #N/A | O80: 28.8 | P80: 28.8 | Q80: 31.5 | R80: 36.9 | S80: 30.6 | T80: #N/A | U80: 43.2 | V80: #N/A
A81: 78 | B81: 45 | C81: #N/A | D81: #N/A | E81: #N/A | F81: 38.7 | G81: #N/A | H81: #N/A | I81: #N/A | J81: #N/A | K81: #N/A | L81: 23.4 | M81: 30.6 | N81: 27.6 | O81: #N/A | P81: 13.2 | Q81: #N/A | R81: 29.7 | S81: #N/A | T81: 36.9 | U81: 41.4 | V81: #N/A
A82: 79 | B82: #N/A | C82: 30.6 | D82: 25.2 | E82: 36 | F82: 35.1 | G82: 30.6 | H82: 27 | I82: 16.2 | J82: 31.8 | K82: 23.4 | L82: #N/A | M82: 31.2 | N82: #N/A | O82: 18 | P82: 34.2 | Q82: 30.6 | R82: 30.6 | S82: 5.4 | T82: 46.8 | U82: #N/A | V82: #N/A
A83: 80 | B83: 16.2 | C83: 21.6 | D83: #N/A | E83: #N/A | F83: #N/A | G83: 25.2 | H83: #N/A | I83: 29.7 | J83: #N/A | K83: 21.6 | L83: #N/A | M83: 24.3 | N83: 36 | O83: 33.1 | P83: 23.4 | Q83: 41.4 | R83: #N/A | S83: #N/A | T83: #N/A | U83: #N/A | V83: #N/A
A84: 81 | B84: 43.2 | C84: 39.6 | D84: 37.8 | E84: #N/A | F84: 36.9 | G84: #N/A | H84: #N/A | I84: #N/A | J84: 14.4 | K84: #N/A | L84: 30.6 | M84: 19.8 | N84: 27 | O84: 30.6 | P84: 30.6 | Q84: 28.8 | R84: #N/A | S84: 14.4 | T84: #N/A | U84: #N/A | V84: #N/A
A85: 82 | B85: #N/A | C85: #N/A | D85: #N/A | E85: #N/A | F85: 36 | G85: #N/A | H85: #N/A | I85: #N/A | J85: #N/A | K85: 28.8 | L85: 22.5 | M85: 12.6 | N85: 19.8 | O85: 28.8 | P85: 19.8 | Q85: #N/A | R85: 48.6 | S85: 34.2 | T85: #N/A | U85: #N/A | V85: #N/A
A86: 83 | B86: #N/A | C86: #N/A | D86: #N/A | E86: #N/A | F86: #N/A | G86: #N/A | H86: #N/A | I86: #N/A | J86: 19.8 | K86: 27 | L86: 23.4 | M86: 23.4 | N86: #N/A | O86: #N/A | P86: #N/A | Q86: 29.7 | R86: #N/A | S86: #N/A | T86: 38.7 | U86: 41.4 | V86: #N/A
A87: 84 | B87: #N/A | C87: 39.6 | D87: #N/A | E87: 29.4 | F87: #N/A | G87: 30.6 | H87: 28.8 | I87: #N/A | J87: #N/A | K87: #N/A | L87: #N/A | M87: 43.2 | N87: 28.8 | O87: 43.2 | P87: 27 | Q87: #N/A | R87: 52.2 | S87: #N/A | T87: 25.2 | U87: 34.2 | V87: 43.2
A88: 85 | B88: 34.2 | C88: #N/A | D88: 16.2 | E88: 32.4 | F88: 29.7 | G88: 14.4 | H88: 41.4 | I88: #N/A | J88: #N/A | K88: #N/A | L88: #N/A | M88: 27 | N88: 14.4 | O88: 10.8 | P88: 31.5 | Q88: 36.9 | R88: 36.9 | S88: #N/A | T88: 43.2 | U88: 48.6 | V88: #N/A
A89: 86 | B89: 37.8 | C89: #N/A | D89: 29.7 | E89: 32.4 | F89: 36 | G89: #N/A | H89: #N/A | I89: #N/A | J89: #N/A | K89: 43.2 | L89: #N/A | M89: 27.9 | N89: 19.8 | O89: 21.6 | P89: 36 | Q89: 29.7 | R89: 42 | S89: #N/A | T89: 38.4 | U89: #N/A | V89: 37.8
A90: 87 | B90: #N/A | C90: 34.2 | D90: 27.9 | E90: 30.6 | F90: 34.2 | G90: #N/A | H90: 48.6 | I90: #N/A | J90: #N/A | K90: 20.5 | L90: #N/A | M90: 39.6 | N90: 26.1 | O90: 57.6 | P90: 35.3 | Q90: 23.4 | R90: 34.2 | S90: 30.6 | T90: #N/A | U90: #N/A | V90: #N/A
A91: 88 | B91: 30.6 | C91: 36 | D91: #N/A | E91: 25.2 | F91: 35.1 | G91: 50.4 | H91: #N/A | I91: #N/A | J91: 34.2 | K91: 23.4 | L91: 39.6 | M91: #N/A | N91: 33.6 | O91: 30.6 | P91: 39.6 | Q91: 41.4 | R91: 34.2 | S91: #N/A | T91: 36.9 | U91: #N/A | V91: #N/A
A92: 89 | B92: #N/A | C92: 25.2 | D92: #N/A | E92: 30.6 | F92: #N/A | G92: 30.6 | H92: 34.2 | I92: #N/A | J92: 34.2 | K92: 36.9 | L92: 34.2 | M92: 32.4 | N92: 28.8 | O92: 39 | P92: #N/A | Q92: 36.9 | R92: 23.4 | S92: 41.4 | T92: 28.8 | U92: 28.8 | V92: #N/A
A93: 90 | B93: 37.8 | C93: #N/A | D93: 30.6 | E93: 29.7 | F93: 27 | G93: #N/A | H93: #N/A | I93: #N/A | J93: #N/A | K93: #N/A | L93: 12.6 | M93: 29.4 | N93: 31.8 | O93: 36 | P93: #N/A | Q93: 39.6 | R93: #N/A | S93: #N/A | T93: #N/A | U93: 30.6 | V93: 28.8
A94: 91 | B94: #N/A | C94: 41.4 | D94: #N/A | E94: #N/A | F94: 22.5 | G94: 21.6 | H94: 12.6 | I94: #N/A | J94: #N/A | K94: #N/A | L94: #N/A | M94: 27 | N94: #N/A | O94: 23.4 | P94: 34.2 | Q94: #N/A | R94: #N/A | S94: #N/A | T94: #N/A | U94: #N/A | V94: #N/A
A95: 92 | B95: #N/A | C95: 19.8 | D95: #N/A | E95: #N/A | F95: 31.5 | G95: #N/A | H95: #N/A | I95: #N/A | J95: 16.2 | K95: #N/A | L95: #N/A | M95: #N/A | N95: 32.4 | O95: 29.7 | P95: #N/A | Q95: #N/A | R95: 25.8 | S95: #N/A | T95: #N/A | U95: #N/A | V95: #N/A
A96: 93 | B96: 41.4 | C96: 39.6 | D96: 39.6 | E96: #N/A | F96: 39.6 | G96: #N/A | H96: 30.6 | I96: #N/A | J96: 28.8 | K96: #N/A | L96: 27 | M96: 30.6 | N96: 27 | O96: 43.2 | P96: 18.9 | Q96: #N/A | R96: #N/A | S96: 19.8 | T96: #N/A | U96: #N/A | V96: #N/A
A97: 94 | B97: 32.4 | C97: 37.8 | D97: #N/A | E97: #N/A | F97: #N/A | G97: #N/A | H97: #N/A | I97: 34.2 | J97: #N/A | K97: #N/A | L97: #N/A | M97: 33.3 | N97: 43.2 | O97: #N/A | P97: 31.8 | Q97: 16.2 | R97: #N/A | S97: #N/A | T97: 41.4 | U97: #N/A | V97: #N/A
A98: 95 | B98: 18 | C98: 36 | D98: #N/A | E98: 6.3 | F98: 37.8 | G98: 34.2 | H98: #N/A | I98: #N/A | J98: 41.4 | K98: #N/A | L98: #N/A | M98: #N/A | N98: 34.2 | O98: 48.6 | P98: 37.8 | Q98: 29.4 | R98: 28.8 | S98: 43.2 | T98: #N/A | U98: #N/A | V98: #N/A
A99: 96 | B99: 36 | C99: #N/A | D99: 39.6 | E99: 36 | F99: 31.5 | G99: #N/A | H99: #N/A | I99: 30.6 | J99: 30.6 | K99: #N/A | L99: #N/A | M99: 30.6 | N99: 45 | O99: 35.1 | P99: #N/A | Q99: #N/A | R99: 28.8 | S99: #N/A | T99: 37.8 | U99: #N/A | V99: #N/A
A100: 97 | B100: #N/A | C100: 45 | D100: 38.7 | E100: 41.4 | F100: 45 | G100: #N/A | H100: #N/A | I100: 30.6 | J100: #N/A | K100: #N/A | L100: 31.5 | M100: 66.6 | N100: 28.8 | O100: 30.6 | P100: 25.8 | Q100: 31.8 | R100: 34.2 | S100: 55.8 | T100: #N/A | U100: 29.7 | V100: #N/A
...

Sheet Delta
B2: =Data1!B2 -> 600 | C2: =Data1!C2 -> 700 | D2: =Data1!D2 -> 800 | E2: =Data1!E2 -> 900 | F2: =Data1!F2 -> 1000 | G2: =Data1!G2 -> 1100 | H2: =Data1!H2 -> 1200 | I2: =Data1!I2 -> 1300 | ... V2: =Data1!V2 -> 2600
A3: =Data1!A3 -> 0 | B3: =Data2!B3-Data1!B3 -> 5 | C3: =Data2!C3-Data1!C3 -> 3.5 | D3: =Data2!D3-Data1!D3 -> 1.1 | E3: =Data2!E3-Data1!E3 -> 9.5 | F3: =Data2!F3-Data1!F3 -> 13.1 | G3: =Data2!G3-Data1!G3 -> 13.3 | H3: =Data2!H3-Data1!H3 -> 7.6 | I3: =Data2!I3-Data1!I3 -> 3.4 | ... V3: =Data2!V3-Data1!V3 -> #N/A
A4: =Data1!A4 -> 1 | B4: =Data2!B4-Data1!B4 -> -0.2 | C4: =Data2!C4-Data1!C4 -> 1.1 | D4: =Data2!D4-Data1!D4 -> 1.7 | E4: =Data2!E4-Data1!E4 -> 0 | F4: =Data2!F4-Data1!F4 -> 0.4 | G4: =Data2!G4-Data1!G4 -> 0.4 | H4: =Data2!H4-Data1!H4 -> -0.2 | I4: =Data2!I4-Data1!I4 -> 0.1 | ... V4: =Data2!V4-Data1!V4 -> #N/A
A5: =Data1!A5 -> 2 | B5: =Data2!B5-Data1!B5 -> -0.7 | C5: =Data2!C5-Data1!C5 -> -0.3 | D5: =Data2!D5-Data1!D5 -> -0.7 | E5: =Data2!E5-Data1!E5 -> -2.6 | F5: =Data2!F5-Data1!F5 -> -0.2 | G5: =Data2!G5-Data1!G5 -> -0.4 | H5: =Data2!H5-Data1!H5 -> -0.9 | I5: =Data2!I5-Data1!I5 -> -0.7 | ... V5: =Data2!V5-Data1!V5 -> #N/A
A6: =Data1!A6 -> 3 | B6: =Data2!B6-Data1!B6 -> -0.8 | C6: =Data2!C6-Data1!C6 -> -4 | D6: =Data2!D6-Data1!D6 -> -1.1 | E6: =Data2!E6-Data1!E6 -> -0.6 | F6: =Data2!F6-Data1!F6 -> -2 | G6: =Data2!G6-Data1!G6 -> 5.1 | H6: =Data2!H6-Data1!H6 -> -1.9 | I6: =Data2!I6-Data1!I6 -> -3.4 | ... V6: =Data2!V6-Data1!V6 -> #N/A
A7: =Data1!A7 -> 4 | B7: =Data2!B7-Data1!B7 -> -1.4 | C7: =Data2!C7-Data1!C7 -> -3.1 | D7: =Data2!D7-Data1!D7 -> 1.7 | E7: =Data2!E7-Data1!E7 -> -3.1 | F7: =Data2!F7-Data1!F7 -> -2.3 | G7: =Data2!G7-Data1!G7 -> 3.4 | H7: =Data2!H7-Data1!H7 -> -3.6 | I7: =Data2!I7-Data1!I7 -> -2.4 | ... V7: =Data2!V7-Data1!V7 -> #N/A
A8: =Data1!A8 -> 5 | B8: =Data2!B8-Data1!B8 -> -4.2 | C8: =Data2!C8-Data1!C8 -> -8.2 | D8: =Data2!D8-Data1!D8 -> 1.3 | E8: =Data2!E8-Data1!E8 -> -6.3 | F8: =Data2!F8-Data1!F8 -> -3.9 | G8: =Data2!G8-Data1!G8 -> -1.8 | H8: =Data2!H8-Data1!H8 -> -5.2 | I8: =Data2!I8-Data1!I8 -> -3 | ... V8: =Data2!V8-Data1!V8 -> #N/A
A9: =Data1!A9 -> 6 | B9: =Data2!B9-Data1!B9 -> -5.8 | C9: =Data2!C9-Data1!C9 -> -4.9 | D9: =Data2!D9-Data1!D9 -> -1.4 | E9: =Data2!E9-Data1!E9 -> -1.8 | F9: =Data2!F9-Data1!F9 -> -3.5 | G9: =Data2!G9-Data1!G9 -> -3.7 | H9: =Data2!H9-Data1!H9 -> 1.7 | I9: =Data2!I9-Data1!I9 -> -0.9 | ... V9: =Data2!V9-Data1!V9 -> #N/A
A10: =Data1!A10 -> 7 | B10: =Data2!B10-Data1!B10 -> -7.8 | C10: =Data2!C10-Data1!C10 -> -5.4 | D10: =Data2!D10-Data1!D10 -> #N/A | E10: =Data2!E10-Data1!E10 -> -4.8 | F10: =Data2!F10-Data1!F10 -> -3.6 | G10: =Data2!G10-Data1!G10 -> -3.6 | H10: =Data2!H10-Data1!H10 -> -2 | I10: =Data2!I10-Data1!I10 -> -3.7 | ... V10: =Data2!V10-Data1!V10 -> #N/A
A11: =Data1!A11 -> 8 | B11: =Data2!B11-Data1!B11 -> -9 | C11: =Data2!C11-Data1!C11 -> -8.3 | D11: =Data2!D11-Data1!D11 -> #N/A | E11: =Data2!E11-Data1!E11 -> -5.6 | F11: =Data2!F11-Data1!F11 -> -9 | G11: =Data2!G11-Data1!G11 -> 1.8 | H11: =Data2!H11-Data1!H11 -> -9.4 | I11: =Data2!I11-Data1!I11 -> #N/A | ... V11: =Data2!V11-Data1!V11 -> #N/A
A12: =Data1!A12 -> 9 | B12: =Data2!B12-Data1!B12 -> -3.6 | C12: =Data2!C12-Data1!C12 -> -5.2 | D12: =Data2!D12-Data1!D12 -> 6.7 | E12: =Data2!E12-Data1!E12 -> -6 | F12: =Data2!F12-Data1!F12 -> -12.5 | G12: =Data2!G12-Data1!G12 -> 6.5 | H12: =Data2!H12-Data1!H12 -> -1.6 | I12: =Data2!I12-Data1!I12 -> #N/A | ... V12: =Data2!V12-Data1!V12 -> #N/A
A13: =Data1!A13 -> 10 | B13: =Data2!B13-Data1!B13 -> -7.9 | C13: =Data2!C13-Data1!C13 -> 3 | D13: =Data2!D13-Data1!D13 -> 9.4 | E13: =Data2!E13-Data1!E13 -> 9.7 | F13: =Data2!F13-Data1!F13 -> 10.4 | G13: =Data2!G13-Data1!G13 -> 10.4 | H13: =Data2!H13-Data1!H13 -> 2.2 | I13: =Data2!I13-Data1!I13 -> -0.9 | ... V13: =Data2!V13-Data1!V13 -> #N/A
A14: =Data1!A14 -> 11 | B14: =Data2!B14-Data1!B14 -> 2.2 | C14: =Data2!C14-Data1!C14 -> 0.6 | D14: =Data2!D14-Data1!D14 -> -3.2 | E14: =Data2!E14-Data1!E14 -> 0.4 | F14: =Data2!F14-Data1!F14 -> 5.4 | G14: =Data2!G14-Data1!G14 -> 2.8 | H14: =Data2!H14-Data1!H14 -> -0.5 | I14: =Data2!I14-Data1!I14 -> 6.6 | ... V14: =Data2!V14-Data1!V14 -> #N/A
... A1612: =Data1!A1612 -> 1609 | B1612: =Data2!B1612-Data1!B1612 -> #N/A | C1612: =Data2!C1612-Data1!C1612 -> #N/A | D1612: =Data2!D1612-Data1!D1612 -> #N/A | E1612: =Data2!E1612-Data1!E1612 -> 20.4 | F1612: =Data2!F1612-Data1!F1612 -> #N/A | G1612: =Data2!G1612-Data1!G1612 -> #N/A | H1612: =Data2!H1612-Data1!H1612 -> 3.6 | I1612: =Data2!I1612-Data1!I1612 -> #N/A | ... V1612: =Data2!V1612-Data1!V1612 -> #N/A
